BEGIN:VCALENDAR
VERSION:2.0
PRODID:-//Ranchmans - ECPv6.8.3//NONSGML v1.0//EN
CALSCALE:GREGORIAN
METHOD:PUBLISH
X-ORIGINAL-URL:https://www.ranchmans.ca/events
X-WR-CALDESC:Events for Ranchmans
REFRESH-INTERVAL;VALUE=DURATION:PT1H
X-Robots-Tag:noindex
X-PUBLISHED-TTL:PT1H
BEGIN:VTIMEZONE
TZID:America/Edmonton
BEGIN:DAYLIGHT
TZOFFSETFROM:-0700
TZOFFSETTO:-0600
TZNAME:MDT
DTSTART:20260308T090000
END:DAYLIGHT
BEGIN:STANDARD
TZOFFSETFROM:-0600
TZOFFSETTO:-0700
TZNAME:MST
DTSTART:20261101T080000
END:STANDARD
END:VTIMEZONE
BEGIN:VEVENT
DTSTART;TZID=America/Edmonton:20260425T163000
DTEND;TZID=America/Edmonton:20260425T203000
DTSTAMP:20260420T190601
CREATED:20230307T232656Z
LAST-MODIFIED:20250520T212437Z
UID:10013316-1777134600-1777149000@www.ranchmans.ca
SUMMARY:Saturday Afternoon Jam
DESCRIPTION:Ranchmans Saturday Jam from 4:30pm to 8:30pm. Come for the Jam\, stay for the night! FREE ENTRY UNTIL 8PM! \nThis weekly event draws big crowds and even bigger artists. You never know who else is going to hop on stage—guest appearances happen regularly at our Saturday Jam hosted by Chuck McEwen
URL:https://www.ranchmans.ca/events/event/free-saturday-jam-2-2-2/2026-04-25/
LOCATION:Ranchmans\, 9615 Macleod Trail S\, Calgary\, Alberta\, T2J 0P6\, Canada
CATEGORIES:Show All Events,Weekly Live Music
ATTACH;FMTTYPE=image/jpeg:https://www.ranchmans.ca/events/wp-content/uploads/2023/03/AFTERNOONJAMsquare.jpg
END:VEVENT
BEGIN:VEVENT
DTSTART;TZID=America/Edmonton:20260502T163000
DTEND;TZID=America/Edmonton:20260502T203000
DTSTAMP:20260420T190601
CREATED:20230307T232656Z
LAST-MODIFIED:20250520T212437Z
UID:10013317-1777739400-1777753800@www.ranchmans.ca
SUMMARY:Saturday Afternoon Jam
DESCRIPTION:Ranchmans Saturday Jam from 4:30pm to 8:30pm. Come for the Jam\, stay for the night! FREE ENTRY UNTIL 8PM! \nThis weekly event draws big crowds and even bigger artists. You never know who else is going to hop on stage—guest appearances happen regularly at our Saturday Jam hosted by Chuck McEwen
URL:https://www.ranchmans.ca/events/event/free-saturday-jam-2-2-2/2026-05-02/
LOCATION:Ranchmans\, 9615 Macleod Trail S\, Calgary\, Alberta\, T2J 0P6\, Canada
CATEGORIES:Show All Events,Weekly Live Music
ATTACH;FMTTYPE=image/jpeg:https://www.ranchmans.ca/events/wp-content/uploads/2023/03/AFTERNOONJAMsquare.jpg
END:VEVENT
BEGIN:VEVENT
DTSTART;TZID=America/Edmonton:20260509T163000
DTEND;TZID=America/Edmonton:20260509T203000
DTSTAMP:20260420T190601
CREATED:20230307T232656Z
LAST-MODIFIED:20250520T212437Z
UID:10013318-1778344200-1778358600@www.ranchmans.ca
SUMMARY:Saturday Afternoon Jam
DESCRIPTION:Ranchmans Saturday Jam from 4:30pm to 8:30pm. Come for the Jam\, stay for the night! FREE ENTRY UNTIL 8PM! \nThis weekly event draws big crowds and even bigger artists. You never know who else is going to hop on stage—guest appearances happen regularly at our Saturday Jam hosted by Chuck McEwen
URL:https://www.ranchmans.ca/events/event/free-saturday-jam-2-2-2/2026-05-09/
LOCATION:Ranchmans\, 9615 Macleod Trail S\, Calgary\, Alberta\, T2J 0P6\, Canada
CATEGORIES:Show All Events,Weekly Live Music
ATTACH;FMTTYPE=image/jpeg:https://www.ranchmans.ca/events/wp-content/uploads/2023/03/AFTERNOONJAMsquare.jpg
END:VEVENT
BEGIN:VEVENT
DTSTART;TZID=America/Edmonton:20260516T163000
DTEND;TZID=America/Edmonton:20260516T203000
DTSTAMP:20260420T190601
CREATED:20230307T232656Z
LAST-MODIFIED:20250520T212437Z
UID:10013319-1778949000-1778963400@www.ranchmans.ca
SUMMARY:Saturday Afternoon Jam
DESCRIPTION:Ranchmans Saturday Jam from 4:30pm to 8:30pm. Come for the Jam\, stay for the night! FREE ENTRY UNTIL 8PM! \nThis weekly event draws big crowds and even bigger artists. You never know who else is going to hop on stage—guest appearances happen regularly at our Saturday Jam hosted by Chuck McEwen
URL:https://www.ranchmans.ca/events/event/free-saturday-jam-2-2-2/2026-05-16/
LOCATION:Ranchmans\, 9615 Macleod Trail S\, Calgary\, Alberta\, T2J 0P6\, Canada
CATEGORIES:Show All Events,Weekly Live Music
ATTACH;FMTTYPE=image/jpeg:https://www.ranchmans.ca/events/wp-content/uploads/2023/03/AFTERNOONJAMsquare.jpg
END:VEVENT
BEGIN:VEVENT
DTSTART;TZID=America/Edmonton:20260523T163000
DTEND;TZID=America/Edmonton:20260523T203000
DTSTAMP:20260420T190601
CREATED:20230307T232656Z
LAST-MODIFIED:20250520T212437Z
UID:10013320-1779553800-1779568200@www.ranchmans.ca
SUMMARY:Saturday Afternoon Jam
DESCRIPTION:Ranchmans Saturday Jam from 4:30pm to 8:30pm. Come for the Jam\, stay for the night! FREE ENTRY UNTIL 8PM! \nThis weekly event draws big crowds and even bigger artists. You never know who else is going to hop on stage—guest appearances happen regularly at our Saturday Jam hosted by Chuck McEwen
URL:https://www.ranchmans.ca/events/event/free-saturday-jam-2-2-2/2026-05-23/
LOCATION:Ranchmans\, 9615 Macleod Trail S\, Calgary\, Alberta\, T2J 0P6\, Canada
CATEGORIES:Show All Events,Weekly Live Music
ATTACH;FMTTYPE=image/jpeg:https://www.ranchmans.ca/events/wp-content/uploads/2023/03/AFTERNOONJAMsquare.jpg
END:VEVENT
BEGIN:VEVENT
DTSTART;TZID=America/Edmonton:20260530T163000
DTEND;TZID=America/Edmonton:20260530T203000
DTSTAMP:20260420T190601
CREATED:20230307T232656Z
LAST-MODIFIED:20250520T212437Z
UID:10013321-1780158600-1780173000@www.ranchmans.ca
SUMMARY:Saturday Afternoon Jam
DESCRIPTION:Ranchmans Saturday Jam from 4:30pm to 8:30pm. Come for the Jam\, stay for the night! FREE ENTRY UNTIL 8PM! \nThis weekly event draws big crowds and even bigger artists. You never know who else is going to hop on stage—guest appearances happen regularly at our Saturday Jam hosted by Chuck McEwen
URL:https://www.ranchmans.ca/events/event/free-saturday-jam-2-2-2/2026-05-30/
LOCATION:Ranchmans\, 9615 Macleod Trail S\, Calgary\, Alberta\, T2J 0P6\, Canada
CATEGORIES:Show All Events,Weekly Live Music
ATTACH;FMTTYPE=image/jpeg:https://www.ranchmans.ca/events/wp-content/uploads/2023/03/AFTERNOONJAMsquare.jpg
END:VEVENT
BEGIN:VEVENT
DTSTART;TZID=America/Edmonton:20260606T163000
DTEND;TZID=America/Edmonton:20260606T203000
DTSTAMP:20260420T190601
CREATED:20230307T232656Z
LAST-MODIFIED:20250520T212437Z
UID:10013322-1780763400-1780777800@www.ranchmans.ca
SUMMARY:Saturday Afternoon Jam
DESCRIPTION:Ranchmans Saturday Jam from 4:30pm to 8:30pm. Come for the Jam\, stay for the night! FREE ENTRY UNTIL 8PM! \nThis weekly event draws big crowds and even bigger artists. You never know who else is going to hop on stage—guest appearances happen regularly at our Saturday Jam hosted by Chuck McEwen
URL:https://www.ranchmans.ca/events/event/free-saturday-jam-2-2-2/2026-06-06/
LOCATION:Ranchmans\, 9615 Macleod Trail S\, Calgary\, Alberta\, T2J 0P6\, Canada
CATEGORIES:Show All Events,Weekly Live Music
ATTACH;FMTTYPE=image/jpeg:https://www.ranchmans.ca/events/wp-content/uploads/2023/03/AFTERNOONJAMsquare.jpg
END:VEVENT
BEGIN:VEVENT
DTSTART;TZID=America/Edmonton:20260613T163000
DTEND;TZID=America/Edmonton:20260613T203000
DTSTAMP:20260420T190601
CREATED:20230307T232656Z
LAST-MODIFIED:20250520T212437Z
UID:10013323-1781368200-1781382600@www.ranchmans.ca
SUMMARY:Saturday Afternoon Jam
DESCRIPTION:Ranchmans Saturday Jam from 4:30pm to 8:30pm. Come for the Jam\, stay for the night! FREE ENTRY UNTIL 8PM! \nThis weekly event draws big crowds and even bigger artists. You never know who else is going to hop on stage—guest appearances happen regularly at our Saturday Jam hosted by Chuck McEwen
URL:https://www.ranchmans.ca/events/event/free-saturday-jam-2-2-2/2026-06-13/
LOCATION:Ranchmans\, 9615 Macleod Trail S\, Calgary\, Alberta\, T2J 0P6\, Canada
CATEGORIES:Show All Events,Weekly Live Music
ATTACH;FMTTYPE=image/jpeg:https://www.ranchmans.ca/events/wp-content/uploads/2023/03/AFTERNOONJAMsquare.jpg
END:VEVENT
BEGIN:VEVENT
DTSTART;TZID=America/Edmonton:20260620T163000
DTEND;TZID=America/Edmonton:20260620T203000
DTSTAMP:20260420T190601
CREATED:20230307T232656Z
LAST-MODIFIED:20250520T212437Z
UID:10013324-1781973000-1781987400@www.ranchmans.ca
SUMMARY:Saturday Afternoon Jam
DESCRIPTION:Ranchmans Saturday Jam from 4:30pm to 8:30pm. Come for the Jam\, stay for the night! FREE ENTRY UNTIL 8PM! \nThis weekly event draws big crowds and even bigger artists. You never know who else is going to hop on stage—guest appearances happen regularly at our Saturday Jam hosted by Chuck McEwen
URL:https://www.ranchmans.ca/events/event/free-saturday-jam-2-2-2/2026-06-20/
LOCATION:Ranchmans\, 9615 Macleod Trail S\, Calgary\, Alberta\, T2J 0P6\, Canada
CATEGORIES:Show All Events,Weekly Live Music
ATTACH;FMTTYPE=image/jpeg:https://www.ranchmans.ca/events/wp-content/uploads/2023/03/AFTERNOONJAMsquare.jpg
END:VEVENT
BEGIN:VEVENT
DTSTART;TZID=America/Edmonton:20260627T163000
DTEND;TZID=America/Edmonton:20260627T203000
DTSTAMP:20260420T190601
CREATED:20230307T232656Z
LAST-MODIFIED:20250520T212437Z
UID:10013325-1782577800-1782592200@www.ranchmans.ca
SUMMARY:Saturday Afternoon Jam
DESCRIPTION:Ranchmans Saturday Jam from 4:30pm to 8:30pm. Come for the Jam\, stay for the night! FREE ENTRY UNTIL 8PM! \nThis weekly event draws big crowds and even bigger artists. You never know who else is going to hop on stage—guest appearances happen regularly at our Saturday Jam hosted by Chuck McEwen
URL:https://www.ranchmans.ca/events/event/free-saturday-jam-2-2-2/2026-06-27/
LOCATION:Ranchmans\, 9615 Macleod Trail S\, Calgary\, Alberta\, T2J 0P6\, Canada
CATEGORIES:Show All Events,Weekly Live Music
ATTACH;FMTTYPE=image/jpeg:https://www.ranchmans.ca/events/wp-content/uploads/2023/03/AFTERNOONJAMsquare.jpg
END:VEVENT
BEGIN:VEVENT
DTSTART;TZID=America/Edmonton:20260704T163000
DTEND;TZID=America/Edmonton:20260704T203000
DTSTAMP:20260420T190601
CREATED:20230307T232656Z
LAST-MODIFIED:20250520T212437Z
UID:10013326-1783182600-1783197000@www.ranchmans.ca
SUMMARY:Saturday Afternoon Jam
DESCRIPTION:Ranchmans Saturday Jam from 4:30pm to 8:30pm. Come for the Jam\, stay for the night! FREE ENTRY UNTIL 8PM! \nThis weekly event draws big crowds and even bigger artists. You never know who else is going to hop on stage—guest appearances happen regularly at our Saturday Jam hosted by Chuck McEwen
URL:https://www.ranchmans.ca/events/event/free-saturday-jam-2-2-2/2026-07-04/
LOCATION:Ranchmans\, 9615 Macleod Trail S\, Calgary\, Alberta\, T2J 0P6\, Canada
CATEGORIES:Show All Events,Weekly Live Music
ATTACH;FMTTYPE=image/jpeg:https://www.ranchmans.ca/events/wp-content/uploads/2023/03/AFTERNOONJAMsquare.jpg
END:VEVENT
BEGIN:VEVENT
DTSTART;TZID=America/Edmonton:20260711T163000
DTEND;TZID=America/Edmonton:20260711T203000
DTSTAMP:20260420T190601
CREATED:20230307T232656Z
LAST-MODIFIED:20250520T212437Z
UID:10013327-1783787400-1783801800@www.ranchmans.ca
SUMMARY:Saturday Afternoon Jam
DESCRIPTION:Ranchmans Saturday Jam from 4:30pm to 8:30pm. Come for the Jam\, stay for the night! FREE ENTRY UNTIL 8PM! \nThis weekly event draws big crowds and even bigger artists. You never know who else is going to hop on stage—guest appearances happen regularly at our Saturday Jam hosted by Chuck McEwen
URL:https://www.ranchmans.ca/events/event/free-saturday-jam-2-2-2/2026-07-11/
LOCATION:Ranchmans\, 9615 Macleod Trail S\, Calgary\, Alberta\, T2J 0P6\, Canada
CATEGORIES:Show All Events,Weekly Live Music
ATTACH;FMTTYPE=image/jpeg:https://www.ranchmans.ca/events/wp-content/uploads/2023/03/AFTERNOONJAMsquare.jpg
END:VEVENT
BEGIN:VEVENT
DTSTART;TZID=America/Edmonton:20260718T163000
DTEND;TZID=America/Edmonton:20260718T203000
DTSTAMP:20260420T190601
CREATED:20230307T232656Z
LAST-MODIFIED:20250520T212437Z
UID:10013328-1784392200-1784406600@www.ranchmans.ca
SUMMARY:Saturday Afternoon Jam
DESCRIPTION:Ranchmans Saturday Jam from 4:30pm to 8:30pm. Come for the Jam\, stay for the night! FREE ENTRY UNTIL 8PM! \nThis weekly event draws big crowds and even bigger artists. You never know who else is going to hop on stage—guest appearances happen regularly at our Saturday Jam hosted by Chuck McEwen
URL:https://www.ranchmans.ca/events/event/free-saturday-jam-2-2-2/2026-07-18/
LOCATION:Ranchmans\, 9615 Macleod Trail S\, Calgary\, Alberta\, T2J 0P6\, Canada
CATEGORIES:Show All Events,Weekly Live Music
ATTACH;FMTTYPE=image/jpeg:https://www.ranchmans.ca/events/wp-content/uploads/2023/03/AFTERNOONJAMsquare.jpg
END:VEVENT
BEGIN:VEVENT
DTSTART;TZID=America/Edmonton:20260725T163000
DTEND;TZID=America/Edmonton:20260725T203000
DTSTAMP:20260420T190601
CREATED:20230307T232656Z
LAST-MODIFIED:20250520T212437Z
UID:10013329-1784997000-1785011400@www.ranchmans.ca
SUMMARY:Saturday Afternoon Jam
DESCRIPTION:Ranchmans Saturday Jam from 4:30pm to 8:30pm. Come for the Jam\, stay for the night! FREE ENTRY UNTIL 8PM! \nThis weekly event draws big crowds and even bigger artists. You never know who else is going to hop on stage—guest appearances happen regularly at our Saturday Jam hosted by Chuck McEwen
URL:https://www.ranchmans.ca/events/event/free-saturday-jam-2-2-2/2026-07-25/
LOCATION:Ranchmans\, 9615 Macleod Trail S\, Calgary\, Alberta\, T2J 0P6\, Canada
CATEGORIES:Show All Events,Weekly Live Music
ATTACH;FMTTYPE=image/jpeg:https://www.ranchmans.ca/events/wp-content/uploads/2023/03/AFTERNOONJAMsquare.jpg
END:VEVENT
BEGIN:VEVENT
DTSTART;TZID=America/Edmonton:20260801T163000
DTEND;TZID=America/Edmonton:20260801T203000
DTSTAMP:20260420T190601
CREATED:20230307T232656Z
LAST-MODIFIED:20250520T212437Z
UID:10013330-1785601800-1785616200@www.ranchmans.ca
SUMMARY:Saturday Afternoon Jam
DESCRIPTION:Ranchmans Saturday Jam from 4:30pm to 8:30pm. Come for the Jam\, stay for the night! FREE ENTRY UNTIL 8PM! \nThis weekly event draws big crowds and even bigger artists. You never know who else is going to hop on stage—guest appearances happen regularly at our Saturday Jam hosted by Chuck McEwen
URL:https://www.ranchmans.ca/events/event/free-saturday-jam-2-2-2/2026-08-01/
LOCATION:Ranchmans\, 9615 Macleod Trail S\, Calgary\, Alberta\, T2J 0P6\, Canada
CATEGORIES:Show All Events,Weekly Live Music
ATTACH;FMTTYPE=image/jpeg:https://www.ranchmans.ca/events/wp-content/uploads/2023/03/AFTERNOONJAMsquare.jpg
END:VEVENT
BEGIN:VEVENT
DTSTART;TZID=America/Edmonton:20260808T163000
DTEND;TZID=America/Edmonton:20260808T203000
DTSTAMP:20260420T190601
CREATED:20230307T232656Z
LAST-MODIFIED:20250520T212437Z
UID:10013331-1786206600-1786221000@www.ranchmans.ca
SUMMARY:Saturday Afternoon Jam
DESCRIPTION:Ranchmans Saturday Jam from 4:30pm to 8:30pm. Come for the Jam\, stay for the night! FREE ENTRY UNTIL 8PM! \nThis weekly event draws big crowds and even bigger artists. You never know who else is going to hop on stage—guest appearances happen regularly at our Saturday Jam hosted by Chuck McEwen
URL:https://www.ranchmans.ca/events/event/free-saturday-jam-2-2-2/2026-08-08/
LOCATION:Ranchmans\, 9615 Macleod Trail S\, Calgary\, Alberta\, T2J 0P6\, Canada
CATEGORIES:Show All Events,Weekly Live Music
ATTACH;FMTTYPE=image/jpeg:https://www.ranchmans.ca/events/wp-content/uploads/2023/03/AFTERNOONJAMsquare.jpg
END:VEVENT
BEGIN:VEVENT
DTSTART;TZID=America/Edmonton:20260815T163000
DTEND;TZID=America/Edmonton:20260815T203000
DTSTAMP:20260420T190601
CREATED:20230307T232656Z
LAST-MODIFIED:20250520T212437Z
UID:10013332-1786811400-1786825800@www.ranchmans.ca
SUMMARY:Saturday Afternoon Jam
DESCRIPTION:Ranchmans Saturday Jam from 4:30pm to 8:30pm. Come for the Jam\, stay for the night! FREE ENTRY UNTIL 8PM! \nThis weekly event draws big crowds and even bigger artists. You never know who else is going to hop on stage—guest appearances happen regularly at our Saturday Jam hosted by Chuck McEwen
URL:https://www.ranchmans.ca/events/event/free-saturday-jam-2-2-2/2026-08-15/
LOCATION:Ranchmans\, 9615 Macleod Trail S\, Calgary\, Alberta\, T2J 0P6\, Canada
CATEGORIES:Show All Events,Weekly Live Music
ATTACH;FMTTYPE=image/jpeg:https://www.ranchmans.ca/events/wp-content/uploads/2023/03/AFTERNOONJAMsquare.jpg
END:VEVENT
BEGIN:VEVENT
DTSTART;TZID=America/Edmonton:20260822T163000
DTEND;TZID=America/Edmonton:20260822T203000
DTSTAMP:20260420T190601
CREATED:20230307T232656Z
LAST-MODIFIED:20250520T212437Z
UID:10013333-1787416200-1787430600@www.ranchmans.ca
SUMMARY:Saturday Afternoon Jam
DESCRIPTION:Ranchmans Saturday Jam from 4:30pm to 8:30pm. Come for the Jam\, stay for the night! FREE ENTRY UNTIL 8PM! \nThis weekly event draws big crowds and even bigger artists. You never know who else is going to hop on stage—guest appearances happen regularly at our Saturday Jam hosted by Chuck McEwen
URL:https://www.ranchmans.ca/events/event/free-saturday-jam-2-2-2/2026-08-22/
LOCATION:Ranchmans\, 9615 Macleod Trail S\, Calgary\, Alberta\, T2J 0P6\, Canada
CATEGORIES:Show All Events,Weekly Live Music
ATTACH;FMTTYPE=image/jpeg:https://www.ranchmans.ca/events/wp-content/uploads/2023/03/AFTERNOONJAMsquare.jpg
END:VEVENT
BEGIN:VEVENT
DTSTART;TZID=America/Edmonton:20260829T163000
DTEND;TZID=America/Edmonton:20260829T203000
DTSTAMP:20260420T190601
CREATED:20230307T232656Z
LAST-MODIFIED:20250520T212437Z
UID:10013334-1788021000-1788035400@www.ranchmans.ca
SUMMARY:Saturday Afternoon Jam
DESCRIPTION:Ranchmans Saturday Jam from 4:30pm to 8:30pm. Come for the Jam\, stay for the night! FREE ENTRY UNTIL 8PM! \nThis weekly event draws big crowds and even bigger artists. You never know who else is going to hop on stage—guest appearances happen regularly at our Saturday Jam hosted by Chuck McEwen
URL:https://www.ranchmans.ca/events/event/free-saturday-jam-2-2-2/2026-08-29/
LOCATION:Ranchmans\, 9615 Macleod Trail S\, Calgary\, Alberta\, T2J 0P6\, Canada
CATEGORIES:Show All Events,Weekly Live Music
ATTACH;FMTTYPE=image/jpeg:https://www.ranchmans.ca/events/wp-content/uploads/2023/03/AFTERNOONJAMsquare.jpg
END:VEVENT
BEGIN:VEVENT
DTSTART;TZID=America/Edmonton:20260905T163000
DTEND;TZID=America/Edmonton:20260905T203000
DTSTAMP:20260420T190601
CREATED:20230307T232656Z
LAST-MODIFIED:20250520T212437Z
UID:10013335-1788625800-1788640200@www.ranchmans.ca
SUMMARY:Saturday Afternoon Jam
DESCRIPTION:Ranchmans Saturday Jam from 4:30pm to 8:30pm. Come for the Jam\, stay for the night! FREE ENTRY UNTIL 8PM! \nThis weekly event draws big crowds and even bigger artists. You never know who else is going to hop on stage—guest appearances happen regularly at our Saturday Jam hosted by Chuck McEwen
URL:https://www.ranchmans.ca/events/event/free-saturday-jam-2-2-2/2026-09-05/
LOCATION:Ranchmans\, 9615 Macleod Trail S\, Calgary\, Alberta\, T2J 0P6\, Canada
CATEGORIES:Show All Events,Weekly Live Music
ATTACH;FMTTYPE=image/jpeg:https://www.ranchmans.ca/events/wp-content/uploads/2023/03/AFTERNOONJAMsquare.jpg
END:VEVENT
BEGIN:VEVENT
DTSTART;TZID=America/Edmonton:20260912T163000
DTEND;TZID=America/Edmonton:20260912T203000
DTSTAMP:20260420T190601
CREATED:20230307T232656Z
LAST-MODIFIED:20250520T212437Z
UID:10013336-1789230600-1789245000@www.ranchmans.ca
SUMMARY:Saturday Afternoon Jam
DESCRIPTION:Ranchmans Saturday Jam from 4:30pm to 8:30pm. Come for the Jam\, stay for the night! FREE ENTRY UNTIL 8PM! \nThis weekly event draws big crowds and even bigger artists. You never know who else is going to hop on stage—guest appearances happen regularly at our Saturday Jam hosted by Chuck McEwen
URL:https://www.ranchmans.ca/events/event/free-saturday-jam-2-2-2/2026-09-12/
LOCATION:Ranchmans\, 9615 Macleod Trail S\, Calgary\, Alberta\, T2J 0P6\, Canada
CATEGORIES:Show All Events,Weekly Live Music
ATTACH;FMTTYPE=image/jpeg:https://www.ranchmans.ca/events/wp-content/uploads/2023/03/AFTERNOONJAMsquare.jpg
END:VEVENT
BEGIN:VEVENT
DTSTART;TZID=America/Edmonton:20260919T163000
DTEND;TZID=America/Edmonton:20260919T203000
DTSTAMP:20260420T190601
CREATED:20230307T232656Z
LAST-MODIFIED:20250520T212437Z
UID:10013337-1789835400-1789849800@www.ranchmans.ca
SUMMARY:Saturday Afternoon Jam
DESCRIPTION:Ranchmans Saturday Jam from 4:30pm to 8:30pm. Come for the Jam\, stay for the night! FREE ENTRY UNTIL 8PM! \nThis weekly event draws big crowds and even bigger artists. You never know who else is going to hop on stage—guest appearances happen regularly at our Saturday Jam hosted by Chuck McEwen
URL:https://www.ranchmans.ca/events/event/free-saturday-jam-2-2-2/2026-09-19/
LOCATION:Ranchmans\, 9615 Macleod Trail S\, Calgary\, Alberta\, T2J 0P6\, Canada
CATEGORIES:Show All Events,Weekly Live Music
ATTACH;FMTTYPE=image/jpeg:https://www.ranchmans.ca/events/wp-content/uploads/2023/03/AFTERNOONJAMsquare.jpg
END:VEVENT
BEGIN:VEVENT
DTSTART;TZID=America/Edmonton:20260926T163000
DTEND;TZID=America/Edmonton:20260926T203000
DTSTAMP:20260420T190601
CREATED:20230307T232656Z
LAST-MODIFIED:20250520T212437Z
UID:10013338-1790440200-1790454600@www.ranchmans.ca
SUMMARY:Saturday Afternoon Jam
DESCRIPTION:Ranchmans Saturday Jam from 4:30pm to 8:30pm. Come for the Jam\, stay for the night! FREE ENTRY UNTIL 8PM! \nThis weekly event draws big crowds and even bigger artists. You never know who else is going to hop on stage—guest appearances happen regularly at our Saturday Jam hosted by Chuck McEwen
URL:https://www.ranchmans.ca/events/event/free-saturday-jam-2-2-2/2026-09-26/
LOCATION:Ranchmans\, 9615 Macleod Trail S\, Calgary\, Alberta\, T2J 0P6\, Canada
CATEGORIES:Show All Events,Weekly Live Music
ATTACH;FMTTYPE=image/jpeg:https://www.ranchmans.ca/events/wp-content/uploads/2023/03/AFTERNOONJAMsquare.jpg
END:VEVENT
BEGIN:VEVENT
DTSTART;TZID=America/Edmonton:20261003T163000
DTEND;TZID=America/Edmonton:20261003T203000
DTSTAMP:20260420T190601
CREATED:20230307T232656Z
LAST-MODIFIED:20250520T212437Z
UID:10013339-1791045000-1791059400@www.ranchmans.ca
SUMMARY:Saturday Afternoon Jam
DESCRIPTION:Ranchmans Saturday Jam from 4:30pm to 8:30pm. Come for the Jam\, stay for the night! FREE ENTRY UNTIL 8PM! \nThis weekly event draws big crowds and even bigger artists. You never know who else is going to hop on stage—guest appearances happen regularly at our Saturday Jam hosted by Chuck McEwen
URL:https://www.ranchmans.ca/events/event/free-saturday-jam-2-2-2/2026-10-03/
LOCATION:Ranchmans\, 9615 Macleod Trail S\, Calgary\, Alberta\, T2J 0P6\, Canada
CATEGORIES:Show All Events,Weekly Live Music
ATTACH;FMTTYPE=image/jpeg:https://www.ranchmans.ca/events/wp-content/uploads/2023/03/AFTERNOONJAMsquare.jpg
END:VEVENT
BEGIN:VEVENT
DTSTART;TZID=America/Edmonton:20261010T163000
DTEND;TZID=America/Edmonton:20261010T203000
DTSTAMP:20260420T190601
CREATED:20230307T232656Z
LAST-MODIFIED:20250520T212437Z
UID:10013340-1791649800-1791664200@www.ranchmans.ca
SUMMARY:Saturday Afternoon Jam
DESCRIPTION:Ranchmans Saturday Jam from 4:30pm to 8:30pm. Come for the Jam\, stay for the night! FREE ENTRY UNTIL 8PM! \nThis weekly event draws big crowds and even bigger artists. You never know who else is going to hop on stage—guest appearances happen regularly at our Saturday Jam hosted by Chuck McEwen
URL:https://www.ranchmans.ca/events/event/free-saturday-jam-2-2-2/2026-10-10/
LOCATION:Ranchmans\, 9615 Macleod Trail S\, Calgary\, Alberta\, T2J 0P6\, Canada
CATEGORIES:Show All Events,Weekly Live Music
ATTACH;FMTTYPE=image/jpeg:https://www.ranchmans.ca/events/wp-content/uploads/2023/03/AFTERNOONJAMsquare.jpg
END:VEVENT
BEGIN:VEVENT
DTSTART;TZID=America/Edmonton:20261017T163000
DTEND;TZID=America/Edmonton:20261017T203000
DTSTAMP:20260420T190601
CREATED:20230307T232656Z
LAST-MODIFIED:20250520T212437Z
UID:10013341-1792254600-1792269000@www.ranchmans.ca
SUMMARY:Saturday Afternoon Jam
DESCRIPTION:Ranchmans Saturday Jam from 4:30pm to 8:30pm. Come for the Jam\, stay for the night! FREE ENTRY UNTIL 8PM! \nThis weekly event draws big crowds and even bigger artists. You never know who else is going to hop on stage—guest appearances happen regularly at our Saturday Jam hosted by Chuck McEwen
URL:https://www.ranchmans.ca/events/event/free-saturday-jam-2-2-2/2026-10-17/
LOCATION:Ranchmans\, 9615 Macleod Trail S\, Calgary\, Alberta\, T2J 0P6\, Canada
CATEGORIES:Show All Events,Weekly Live Music
ATTACH;FMTTYPE=image/jpeg:https://www.ranchmans.ca/events/wp-content/uploads/2023/03/AFTERNOONJAMsquare.jpg
END:VEVENT
BEGIN:VEVENT
DTSTART;TZID=America/Edmonton:20261024T163000
DTEND;TZID=America/Edmonton:20261024T203000
DTSTAMP:20260420T190601
CREATED:20230307T232656Z
LAST-MODIFIED:20250520T212437Z
UID:10013342-1792859400-1792873800@www.ranchmans.ca
SUMMARY:Saturday Afternoon Jam
DESCRIPTION:Ranchmans Saturday Jam from 4:30pm to 8:30pm. Come for the Jam\, stay for the night! FREE ENTRY UNTIL 8PM! \nThis weekly event draws big crowds and even bigger artists. You never know who else is going to hop on stage—guest appearances happen regularly at our Saturday Jam hosted by Chuck McEwen
URL:https://www.ranchmans.ca/events/event/free-saturday-jam-2-2-2/2026-10-24/
LOCATION:Ranchmans\, 9615 Macleod Trail S\, Calgary\, Alberta\, T2J 0P6\, Canada
CATEGORIES:Show All Events,Weekly Live Music
ATTACH;FMTTYPE=image/jpeg:https://www.ranchmans.ca/events/wp-content/uploads/2023/03/AFTERNOONJAMsquare.jpg
END:VEVENT
BEGIN:VEVENT
DTSTART;TZID=America/Edmonton:20261031T163000
DTEND;TZID=America/Edmonton:20261031T203000
DTSTAMP:20260420T190601
CREATED:20230307T232656Z
LAST-MODIFIED:20250520T212437Z
UID:10013343-1793464200-1793478600@www.ranchmans.ca
SUMMARY:Saturday Afternoon Jam
DESCRIPTION:Ranchmans Saturday Jam from 4:30pm to 8:30pm. Come for the Jam\, stay for the night! FREE ENTRY UNTIL 8PM! \nThis weekly event draws big crowds and even bigger artists. You never know who else is going to hop on stage—guest appearances happen regularly at our Saturday Jam hosted by Chuck McEwen
URL:https://www.ranchmans.ca/events/event/free-saturday-jam-2-2-2/2026-10-31/
LOCATION:Ranchmans\, 9615 Macleod Trail S\, Calgary\, Alberta\, T2J 0P6\, Canada
CATEGORIES:Show All Events,Weekly Live Music
ATTACH;FMTTYPE=image/jpeg:https://www.ranchmans.ca/events/wp-content/uploads/2023/03/AFTERNOONJAMsquare.jpg
END:VEVENT
BEGIN:VEVENT
DTSTART;TZID=America/Edmonton:20261107T163000
DTEND;TZID=America/Edmonton:20261107T203000
DTSTAMP:20260420T190601
CREATED:20230307T232656Z
LAST-MODIFIED:20250520T212437Z
UID:10013344-1794069000-1794083400@www.ranchmans.ca
SUMMARY:Saturday Afternoon Jam
DESCRIPTION:Ranchmans Saturday Jam from 4:30pm to 8:30pm. Come for the Jam\, stay for the night! FREE ENTRY UNTIL 8PM! \nThis weekly event draws big crowds and even bigger artists. You never know who else is going to hop on stage—guest appearances happen regularly at our Saturday Jam hosted by Chuck McEwen
URL:https://www.ranchmans.ca/events/event/free-saturday-jam-2-2-2/2026-11-07/
LOCATION:Ranchmans\, 9615 Macleod Trail S\, Calgary\, Alberta\, T2J 0P6\, Canada
CATEGORIES:Show All Events,Weekly Live Music
ATTACH;FMTTYPE=image/jpeg:https://www.ranchmans.ca/events/wp-content/uploads/2023/03/AFTERNOONJAMsquare.jpg
END:VEVENT
BEGIN:VEVENT
DTSTART;TZID=America/Edmonton:20261114T163000
DTEND;TZID=America/Edmonton:20261114T203000
DTSTAMP:20260420T190601
CREATED:20230307T232656Z
LAST-MODIFIED:20250520T212437Z
UID:10013345-1794673800-1794688200@www.ranchmans.ca
SUMMARY:Saturday Afternoon Jam
DESCRIPTION:Ranchmans Saturday Jam from 4:30pm to 8:30pm. Come for the Jam\, stay for the night! FREE ENTRY UNTIL 8PM! \nThis weekly event draws big crowds and even bigger artists. You never know who else is going to hop on stage—guest appearances happen regularly at our Saturday Jam hosted by Chuck McEwen
URL:https://www.ranchmans.ca/events/event/free-saturday-jam-2-2-2/2026-11-14/
LOCATION:Ranchmans\, 9615 Macleod Trail S\, Calgary\, Alberta\, T2J 0P6\, Canada
CATEGORIES:Show All Events,Weekly Live Music
ATTACH;FMTTYPE=image/jpeg:https://www.ranchmans.ca/events/wp-content/uploads/2023/03/AFTERNOONJAMsquare.jpg
END:VEVENT
END:VCALENDAR