BEGIN:VCALENDAR
VERSION:2.0
PRODID:-//Ranchmans - ECPv6.8.3//NONSGML v1.0//EN
CALSCALE:GREGORIAN
METHOD:PUBLISH
X-ORIGINAL-URL:https://www.ranchmans.ca/events
X-WR-CALDESC:Events for Ranchmans
REFRESH-INTERVAL;VALUE=DURATION:PT1H
X-Robots-Tag:noindex
X-PUBLISHED-TTL:PT1H
BEGIN:VTIMEZONE
TZID:America/Edmonton
BEGIN:DAYLIGHT
TZOFFSETFROM:-0700
TZOFFSETTO:-0600
TZNAME:MDT
DTSTART:20260308T090000
END:DAYLIGHT
BEGIN:STANDARD
TZOFFSETFROM:-0600
TZOFFSETTO:-0700
TZNAME:MST
DTSTART:20261101T080000
END:STANDARD
END:VTIMEZONE
BEGIN:VEVENT
DTSTART;TZID=America/Edmonton:20260529T210000
DTEND;TZID=America/Edmonton:20260529T233000
DTSTAMP:20260421T222228
CREATED:20260410T185624Z
LAST-MODIFIED:20260410T185624Z
UID:10022433-1780088400-1780097400@www.ranchmans.ca
SUMMARY:Robert Gosse
DESCRIPTION:Robert Gosse has been entertaining the masses all his life with his comedic flair. Taking the stage for the first time as a showcased singer at a “Grand Old Opry” style show produced by his father was the precursor to what has become a whirlwind ride for him musically. \nHe competed as the underdog in the Country 105 Rising Star competition in 2012\, entering as the new guy in the game and making the finals! He returned again in 2018 as a Top 4 Finalist out of 100’s of contestants and 20 semi-finalists. Both events packed some serious punch and Robert credits his monstrous following\, fondly dubbed the #GossiePosse for their unwavering support.
URL:https://www.ranchmans.ca/events/event/robert-gosse-6/2026-05-29/
LOCATION:Ranchmans\, 9615 Macleod Trail S\, Calgary\, Alberta\, T2J 0P6\, Canada
CATEGORIES:Show All Events,Weekly Live Music
ATTACH;FMTTYPE=image/jpeg:https://www.ranchmans.ca/events/wp-content/uploads/2024/12/image001-scaled.jpg
END:VEVENT
BEGIN:VEVENT
DTSTART;TZID=America/Edmonton:20260530T203000
DTEND;TZID=America/Edmonton:20260530T233000
DTSTAMP:20260421T222228
CREATED:20260410T185624Z
LAST-MODIFIED:20260410T185624Z
UID:10022434-1780173000-1780183800@www.ranchmans.ca
SUMMARY:Robert Gosse
DESCRIPTION:Robert Gosse has been entertaining the masses all his life with his comedic flair. Taking the stage for the first time as a showcased singer at a “Grand Old Opry” style show produced by his father was the precursor to what has become a whirlwind ride for him musically. \nHe competed as the underdog in the Country 105 Rising Star competition in 2012\, entering as the new guy in the game and making the finals! He returned again in 2018 as a Top 4 Finalist out of 100’s of contestants and 20 semi-finalists. Both events packed some serious punch and Robert credits his monstrous following\, fondly dubbed the #GossiePosse for their unwavering support.
URL:https://www.ranchmans.ca/events/event/robert-gosse-6/2026-05-30/
LOCATION:Ranchmans\, 9615 Macleod Trail S\, Calgary\, Alberta\, T2J 0P6\, Canada
CATEGORIES:Show All Events,Weekly Live Music
ATTACH;FMTTYPE=image/jpeg:https://www.ranchmans.ca/events/wp-content/uploads/2024/12/image001-scaled.jpg
END:VEVENT
END:VCALENDAR