BEGIN:VCALENDAR
VERSION:2.0
PRODID:-//Ranchmans - ECPv6.8.3//NONSGML v1.0//EN
CALSCALE:GREGORIAN
METHOD:PUBLISH
X-WR-CALNAME:Ranchmans
X-ORIGINAL-URL:https://www.ranchmans.ca/events
X-WR-CALDESC:Events for Ranchmans
REFRESH-INTERVAL;VALUE=DURATION:PT1H
X-Robots-Tag:noindex
X-PUBLISHED-TTL:PT1H
BEGIN:VTIMEZONE
TZID:America/Edmonton
BEGIN:DAYLIGHT
TZOFFSETFROM:-0700
TZOFFSETTO:-0600
TZNAME:MDT
DTSTART:20260308T090000
END:DAYLIGHT
BEGIN:STANDARD
TZOFFSETFROM:-0600
TZOFFSETTO:-0700
TZNAME:MST
DTSTART:20261101T080000
END:STANDARD
END:VTIMEZONE
BEGIN:VEVENT
DTSTART;TZID=America/Edmonton:20260515T210000
DTEND;TZID=America/Edmonton:20260515T233000
DTSTAMP:20260419T061826
CREATED:20260410T192321Z
LAST-MODIFIED:20260410T192321Z
UID:10022435-1778878800-1778887800@www.ranchmans.ca
SUMMARY:Chevy Beaulieu
DESCRIPTION:
URL:https://www.ranchmans.ca/events/event/chevy-beaulieu/2026-05-15/
LOCATION:Ranchmans\, 9615 Macleod Trail S\, Calgary\, Alberta\, T2J 0P6\, Canada
CATEGORIES:Show All Events,Weekly Live Music
ATTACH;FMTTYPE=image/jpeg:https://www.ranchmans.ca/events/wp-content/uploads/2026/04/chevy.jpeg
END:VEVENT
BEGIN:VEVENT
DTSTART;TZID=America/Edmonton:20260516T203000
DTEND;TZID=America/Edmonton:20260516T233000
DTSTAMP:20260419T061826
CREATED:20260410T192321Z
LAST-MODIFIED:20260410T192321Z
UID:10022436-1778963400-1778974200@www.ranchmans.ca
SUMMARY:Chevy Beaulieu
DESCRIPTION:
URL:https://www.ranchmans.ca/events/event/chevy-beaulieu/2026-05-16/
LOCATION:Ranchmans\, 9615 Macleod Trail S\, Calgary\, Alberta\, T2J 0P6\, Canada
CATEGORIES:Show All Events,Weekly Live Music
ATTACH;FMTTYPE=image/jpeg:https://www.ranchmans.ca/events/wp-content/uploads/2026/04/chevy.jpeg
END:VEVENT
END:VCALENDAR