BEGIN:VCALENDAR
VERSION:2.0
PRODID:-//Ranchmans - ECPv6.8.3//NONSGML v1.0//EN
CALSCALE:GREGORIAN
METHOD:PUBLISH
X-WR-CALNAME:Ranchmans
X-ORIGINAL-URL:https://www.ranchmans.ca/events
X-WR-CALDESC:Events for Ranchmans
REFRESH-INTERVAL;VALUE=DURATION:PT1H
X-Robots-Tag:noindex
X-PUBLISHED-TTL:PT1H
BEGIN:VTIMEZONE
TZID:UTC
BEGIN:STANDARD
TZOFFSETFROM:+0000
TZOFFSETTO:+0000
TZNAME:UTC
DTSTART:20230101T000000
END:STANDARD
END:VTIMEZONE
BEGIN:VEVENT
DTSTART;TZID=UTC:20230204T200000
DTEND;TZID=UTC:20230204T233000
DTSTAMP:20260421T144654
CREATED:20230213T051409Z
LAST-MODIFIED:20230214T224130Z
UID:10004192-1675540800-1675553400@www.ranchmans.ca
SUMMARY:Taylor Swift Tribute Band
DESCRIPTION:UK’s Finest Tribute to Taylor Swift \nKaty Ellis\, the girl behind this Taylor Swift Tribute Show was also born in 1989. She not only looks like Taylor Swift but has the same mannerisms\, energy on stage and attitude; making this Taylor Swift Tribute Act unlike any other! \nThis fun energetic show gets all the audience involved and has everyone singing along and ‘Shaking it off’ to all of Taylor Swift’s hits. \nBuy tickets on Showpass.
URL:https://www.ranchmans.ca/events/event/taylor-swift-tribute-band-2-2/
LOCATION:Alberta
CATEGORIES:Stampede 2025
ATTACH;FMTTYPE=image/jpeg:https://www.ranchmans.ca/events/wp-content/uploads/2023/01/TS.jpg
END:VEVENT
BEGIN:VEVENT
DTSTART;TZID=UTC:20230203T200000
DTEND;TZID=UTC:20230203T233000
DTSTAMP:20260421T144654
CREATED:20230213T051515Z
LAST-MODIFIED:20230213T051515Z
UID:10004203-1675454400-1675467000@www.ranchmans.ca
SUMMARY:Taylor Swift Tribute Band
DESCRIPTION:UK’s Finest Tribute to Taylor Swift \nKaty Ellis\, the girl behind this Taylor Swift Tribute Show was also born in 1989. She not only looks like Taylor Swift but has the same mannerisms\, energy on stage and attitude; making this Taylor Swift Tribute Act unlike any other! \nThis fun energetic show gets all the audience involved and has everyone singing along and ‘Shaking it off’ to all of Taylor Swift’s hits. \nBuy tickets on Showpass.
URL:https://www.ranchmans.ca/events/event/taylor-swift-tribute-band-2-3/
LOCATION:Alberta
ATTACH;FMTTYPE=image/jpeg:https://www.ranchmans.ca/events/wp-content/uploads/2023/01/TS.jpg
END:VEVENT
BEGIN:VEVENT
DTSTART;TZID=UTC:20230128T210000
DTEND;TZID=UTC:20230128T223000
DTSTAMP:20260421T144654
CREATED:20230121T060529Z
LAST-MODIFIED:20230125T004926Z
UID:10004190-1674939600-1674945000@www.ranchmans.ca
SUMMARY:Drew Gregory LIVE
DESCRIPTION:You an buy tickets on Showpass.
URL:https://www.ranchmans.ca/events/event/drew-gregory-live/
LOCATION:Alberta
ATTACH;FMTTYPE=image/jpeg:https://www.ranchmans.ca/events/wp-content/uploads/2023/01/Drew-Gregory-2021-55-scaled.jpg
END:VEVENT
BEGIN:VEVENT
DTSTART;TZID=UTC:20230128T200000
DTEND;TZID=UTC:20230128T213000
DTSTAMP:20260421T144654
CREATED:20230121T060400Z
LAST-MODIFIED:20230125T004813Z
UID:10004189-1674936000-1674941400@www.ranchmans.ca
SUMMARY:Jordan Shingoose LIVE
DESCRIPTION:Opening support for Drew Gregory
URL:https://www.ranchmans.ca/events/event/jordan-shingoose/
LOCATION:Alberta
ATTACH;FMTTYPE=image/jpeg:https://www.ranchmans.ca/events/wp-content/uploads/2023/01/jordan-wedding.jpg
END:VEVENT
BEGIN:VEVENT
DTSTART;TZID=UTC:20230127T210000
DTEND;TZID=UTC:20230127T223000
DTSTAMP:20260421T144654
CREATED:20230121T060245Z
LAST-MODIFIED:20230125T004735Z
UID:10004188-1674853200-1674858600@www.ranchmans.ca
SUMMARY:Jordan Shingoose LIVE
DESCRIPTION:
URL:https://www.ranchmans.ca/events/event/jordan-shingoose-live/
LOCATION:Alberta
ATTACH;FMTTYPE=image/jpeg:https://www.ranchmans.ca/events/wp-content/uploads/2023/01/jordan-wedding.jpg
END:VEVENT
BEGIN:VEVENT
DTSTART;TZID=UTC:20230121T233000
DTEND;TZID=UTC:20230121T233000
DTSTAMP:20260421T144654
CREATED:20230121T060139Z
LAST-MODIFIED:20230124T224635Z
UID:10004187-1674343800-1674343800@www.ranchmans.ca
SUMMARY:Hottest Country Music of the 90’s
DESCRIPTION:
URL:https://www.ranchmans.ca/events/event/hottest-country-music-of-the-90s/
LOCATION:Alberta
ATTACH;FMTTYPE=image/jpeg:https://www.ranchmans.ca/events/wp-content/uploads/2023/01/1672776386_image_Backto90sIG.jpg
END:VEVENT
BEGIN:VEVENT
DTSTART;TZID=UTC:20230121T200000
DTEND;TZID=UTC:20230121T213000
DTSTAMP:20260421T144654
CREATED:20230121T055952Z
LAST-MODIFIED:20230124T224645Z
UID:10004186-1674331200-1674336600@www.ranchmans.ca
SUMMARY:Brad Sims LIVE
DESCRIPTION:
URL:https://www.ranchmans.ca/events/event/brad-sims-live-2/
LOCATION:Alberta
ATTACH;FMTTYPE=image/jpeg:https://www.ranchmans.ca/events/wp-content/uploads/2023/01/1655749114_image_Bradsims-1.jpg
END:VEVENT
BEGIN:VEVENT
DTSTART;TZID=UTC:20230120T210000
DTEND;TZID=UTC:20230120T223000
DTSTAMP:20260421T144654
CREATED:20230121T055858Z
LAST-MODIFIED:20230124T224655Z
UID:10004185-1674248400-1674253800@www.ranchmans.ca
SUMMARY:Brad Sims LIVE
DESCRIPTION:
URL:https://www.ranchmans.ca/events/event/brad-sims-live/
LOCATION:Alberta
ATTACH;FMTTYPE=image/jpeg:https://www.ranchmans.ca/events/wp-content/uploads/2023/01/1655749114_image_Bradsims.jpg
END:VEVENT
END:VCALENDAR