BEGIN:VCALENDAR
VERSION:2.0
PRODID:-//Ranchmans - ECPv6.8.3//NONSGML v1.0//EN
CALSCALE:GREGORIAN
METHOD:PUBLISH
X-WR-CALNAME:Ranchmans
X-ORIGINAL-URL:https://www.ranchmans.ca/events
X-WR-CALDESC:Events for Ranchmans
REFRESH-INTERVAL;VALUE=DURATION:PT1H
X-Robots-Tag:noindex
X-PUBLISHED-TTL:PT1H
BEGIN:VTIMEZONE
TZID:America/Edmonton
BEGIN:DAYLIGHT
TZOFFSETFROM:-0700
TZOFFSETTO:-0600
TZNAME:MDT
DTSTART:20250309T090000
END:DAYLIGHT
BEGIN:STANDARD
TZOFFSETFROM:-0600
TZOFFSETTO:-0700
TZNAME:MST
DTSTART:20251102T080000
END:STANDARD
END:VTIMEZONE
BEGIN:VEVENT
DTSTART;TZID=America/Edmonton:20251217T190000
DTEND;TZID=America/Edmonton:20251217T210000
DTSTAMP:20260425T043502
CREATED:20251120T195728Z
LAST-MODIFIED:20251120T195931Z
UID:10021242-1765998000-1766005200@www.ranchmans.ca
SUMMARY:Dancer Appreciation
DESCRIPTION:Join us for Dancer Appreciation starting at 7pm! \nFREE Dance Lessons | Door Prizes | Small Bites & FREE ENTRY
URL:https://www.ranchmans.ca/events/event/dancer-appreciation-5/
LOCATION:Ranchmans\, 9615 Macleod Trail S\, Calgary\, Alberta\, T2J 0P6\, Canada
CATEGORIES:Cha Cha Dance Lesson - Free,Country Swing Lessons - Free,Double Shuffle Lessons - Free,East Coast Swing,Line Dance Lessons - Free,Ranchmans,Themed Events,Two Step Lessons - Free,West Coast Swing Lessons - Free
ATTACH;FMTTYPE=image/jpeg:https://www.ranchmans.ca/events/wp-content/uploads/2025/11/Dancerappreciation.jpg
END:VEVENT
BEGIN:VEVENT
DTSTART;TZID=America/Edmonton:20251218T170000
DTEND;TZID=America/Edmonton:20251218T193000
DTSTAMP:20260425T043502
CREATED:20250409T154551Z
LAST-MODIFIED:20260304T182056Z
UID:10018044-1766077200-1766086200@www.ranchmans.ca
SUMMARY:Social Dance Thursdays
DESCRIPTION:Social Dance Thursdays: Open Floor Practice Time!🕔 5:00 PM – 7:30 PM \nGrab your partner (or come solo) and practice what you’ve learned! Whether you’re a beginner or an experienced dancer\, all skill levels are welcome. \nMix\, Mingle\, and Dance the Night Away \nDoors open at 5pm // FREE ENTRY Thursday Nights \nDinner Special 5pm-8pm: \n\nEnjoy our $9.95 Steak Sandwich *min 1 drink with order\n Sip on $5.75 6oz Glasses of Wine from\n\nStay for Free Dance Lessons starting at 7:30pm \nJoin Us for a Fun\, Evening of Dancing!
URL:https://www.ranchmans.ca/events/event/social-dance-thursdays/2025-12-18/
LOCATION:Ranchmans\, 9615 Macleod Trail S\, Calgary\, Alberta\, T2J 0P6\, Canada
CATEGORIES:Cha Cha Dance Lesson - Free,Country Swing Lessons - Free,Double Shuffle Lessons - Free,East Coast Swing,Line Dance Lessons - Free,Two Step Lessons - Free,West Coast Swing Lessons - Free
ATTACH;FMTTYPE=image/jpeg:https://www.ranchmans.ca/events/wp-content/uploads/2025/04/SocialdanceSquare-1.jpg
END:VEVENT
END:VCALENDAR