BEGIN:VCALENDAR
VERSION:2.0
PRODID:-//Ranchmans - ECPv6.8.3//NONSGML v1.0//EN
CALSCALE:GREGORIAN
METHOD:PUBLISH
X-WR-CALNAME:Ranchmans
X-ORIGINAL-URL:https://www.ranchmans.ca/events
X-WR-CALDESC:Events for Ranchmans
REFRESH-INTERVAL;VALUE=DURATION:PT1H
X-Robots-Tag:noindex
X-PUBLISHED-TTL:PT1H
BEGIN:VTIMEZONE
TZID:America/Edmonton
BEGIN:DAYLIGHT
TZOFFSETFROM:-0700
TZOFFSETTO:-0600
TZNAME:MDT
DTSTART:20240310T090000
END:DAYLIGHT
BEGIN:STANDARD
TZOFFSETFROM:-0600
TZOFFSETTO:-0700
TZNAME:MST
DTSTART:20241103T080000
END:STANDARD
END:VTIMEZONE
BEGIN:VEVENT
DTSTART;TZID=America/Edmonton:20241218T190000
DTEND;TZID=America/Edmonton:20241218T203000
DTSTAMP:20260425T051730
CREATED:20241129T193714Z
LAST-MODIFIED:20241129T193714Z
UID:10016933-1734548400-1734553800@www.ranchmans.ca
SUMMARY:Two-Step – Beginner Lesson
DESCRIPTION:Join us for FREE Beginner Two-Step Lessons December 4th / 11th / 18th \nWe offer FREE Country Dance Lessons on the largest dance floor in Calgary. No reservations are needed\, just join us on the dance floor! With decades of experience\, our instructors can tailor dances to any age (18+) and ability. \n\nDoors at 5pm\nBeginner Two-Step starting at 7 pm\nWING NIGHT: .50 Cent Wings\n$12 bottles of Wine 375ml\n$5.50 Corona
URL:https://www.ranchmans.ca/events/event/two-step-beginner-lesson/2024-12-18/
LOCATION:Ranchmans\, 9615 Macleod Trail S\, Calgary\, Alberta\, T2J 0P6\, Canada
CATEGORIES:Two Step Lessons - Free
END:VEVENT
BEGIN:VEVENT
DTSTART;TZID=America/Edmonton:20241218T190000
DTEND;TZID=America/Edmonton:20241218T210000
DTSTAMP:20260425T051730
CREATED:20241119T215329Z
LAST-MODIFIED:20241119T215329Z
UID:10016162-1734548400-1734555600@www.ranchmans.ca
SUMMARY:Dancer Appreciation
DESCRIPTION:Join us for Dancer Appreciation starting at 7pm! \nFREE Dance Lessons | Door Prizes | Small Bites & FREE ENTRY
URL:https://www.ranchmans.ca/events/event/dancer-appreciation-4/
LOCATION:Ranchmans\, 9615 Macleod Trail S\, Calgary\, Alberta\, T2J 0P6\, Canada
CATEGORIES:Cha Cha Dance Lesson - Free,Country Swing Lessons - Free,Double Shuffle Lessons - Free,East Coast Swing,Line Dance Lessons - Free,Ranchmans,Two Step Lessons - Free,West Coast Swing Lessons - Free
ATTACH;FMTTYPE=image/jpeg:https://www.ranchmans.ca/events/wp-content/uploads/2024/11/Dancerappreciation2024.jpg
END:VEVENT
END:VCALENDAR