BEGIN:VCALENDAR
VERSION:2.0
PRODID:-//Ranchmans - ECPv6.8.3//NONSGML v1.0//EN
CALSCALE:GREGORIAN
METHOD:PUBLISH
X-ORIGINAL-URL:https://www.ranchmans.ca/events
X-WR-CALDESC:Events for Ranchmans
REFRESH-INTERVAL;VALUE=DURATION:PT1H
X-Robots-Tag:noindex
X-PUBLISHED-TTL:PT1H
BEGIN:VTIMEZONE
TZID:America/Edmonton
BEGIN:DAYLIGHT
TZOFFSETFROM:-0700
TZOFFSETTO:-0600
TZNAME:MDT
DTSTART:20250309T090000
END:DAYLIGHT
BEGIN:STANDARD
TZOFFSETFROM:-0600
TZOFFSETTO:-0700
TZNAME:MST
DTSTART:20251102T080000
END:STANDARD
END:VTIMEZONE
BEGIN:VEVENT
DTSTART;TZID=America/Edmonton:20250910T173000
DTEND;TZID=America/Edmonton:20250910T183000
DTSTAMP:20260425T051501
CREATED:20250811T211045Z
LAST-MODIFIED:20250811T211116Z
UID:10020478-1757525400-1757529000@www.ranchmans.ca
SUMMARY:Beginner Night Club Two-Step
DESCRIPTION:Beginner Night Club Two Step with Steve and Laurie  \nWeekly progressive lessons starting the first Wednesday of each month. FREE! \nWe offer FREE Country Dance Lessons on the largest dance floor in Calgary. No reservations are needed\, just join us on the dance floor! With decades of experience\, our instructors can tailor dances to any age (18+) and ability. \n• Doors at 5pm\n• WING NIGHT: .50 Cent Wings\n• $12 bottles of Wine 375ml\n• $5.50 Corona \n5:30 pm – 6:30 pm       Beginner Night Club Two-Step \n7:00 pm – 8:30 pm          Beginner Two Step
URL:https://www.ranchmans.ca/events/event/beginner-night-club-two-step/2025-09-10/
LOCATION:Ranchmans\, 9615 Macleod Trail S\, Calgary\, Alberta\, T2J 0P6\, Canada
CATEGORIES:Dance Lessons,Two Step Lessons - Free
END:VEVENT
BEGIN:VEVENT
DTSTART;TZID=America/Edmonton:20250910T190000
DTEND;TZID=America/Edmonton:20250910T203000
DTSTAMP:20260425T051501
CREATED:20250811T211933Z
LAST-MODIFIED:20251208T191554Z
UID:10020510-1757530800-1757536200@www.ranchmans.ca
SUMMARY:Two-Step - Beginner
DESCRIPTION:Beginner Two-Step with Steve and Laurie   \nWeekly progressive lessons starting the first Wednesday of each month. FREE! \nWe offer FREE Country Dance Lessons on the largest dance floor in Calgary. No reservations are needed\, just join us on the dance floor! With decades of experience\, our instructors can tailor dances to any age (18+) and ability. \n\nDoors at 5pm\nBeginner Two-Step starting at 7 pm\nWING NIGHT: .1/2 Price Wings *with purchase of a beverage\n$12 bottles of Wine 375ml\n$5.50 Corona
URL:https://www.ranchmans.ca/events/event/two-step-beginner-2/2025-09-10/
LOCATION:Ranchmans\, 9615 Macleod Trail S\, Calgary\, Alberta\, T2J 0P6\, Canada
CATEGORIES:Two Step Lessons - Free
END:VEVENT
END:VCALENDAR