BEGIN:VCALENDAR
VERSION:2.0
PRODID:-//Ranchmans - ECPv6.8.3//NONSGML v1.0//EN
CALSCALE:GREGORIAN
METHOD:PUBLISH
X-WR-CALNAME:Ranchmans
X-ORIGINAL-URL:https://www.ranchmans.ca/events
X-WR-CALDESC:Events for Ranchmans
REFRESH-INTERVAL;VALUE=DURATION:PT1H
X-Robots-Tag:noindex
X-PUBLISHED-TTL:PT1H
BEGIN:VTIMEZONE
TZID:America/Edmonton
BEGIN:DAYLIGHT
TZOFFSETFROM:-0700
TZOFFSETTO:-0600
TZNAME:MDT
DTSTART:20240310T090000
END:DAYLIGHT
BEGIN:STANDARD
TZOFFSETFROM:-0600
TZOFFSETTO:-0700
TZNAME:MST
DTSTART:20241103T080000
END:STANDARD
END:VTIMEZONE
BEGIN:VEVENT
DTSTART;TZID=America/Edmonton:20241130T153000
DTEND;TZID=America/Edmonton:20241130T163000
DTSTAMP:20260425T050543
CREATED:20241113T182949Z
LAST-MODIFIED:20241113T182949Z
UID:10016151-1732980600-1732984200@www.ranchmans.ca
SUMMARY:Two-Step – NOVEMBER Intermediate Lessons 5/5
DESCRIPTION:Intermediate Two-Step Lessons with “WORLD CHAMPIONS” Richard & Cindy Tymko! \nWe take it up a notch – come ready  \nStep is a progressive dance that travels around counter clockwise around the dance floor to quick quick slow slow timing. \nWe offer FREE Country Dance Lessons on the largest dance floor in Calgary. No reservations are needed\, just join us on the dance floor! With decades of experience\, our instructors can tailor dances to any age (18+) and ability. \n\nDoors at 3pm\nDance Lessons starting at 3:30 pm\nAfternoon Jam with Chuck McEwen starts at 4:30pm\n$5 OFF Food Menu items until 5pm\n1/2 Price Wine until 6pm\n\nNov 2nd Lesson 1/5 \nNov 9th Lesson 2/5 \nNov 16th Lesson 3/5 \nNov 23rd Lesson 4/5 \nNov 30th Lesson 5/5
URL:https://www.ranchmans.ca/events/event/two-step-november-intermediate-lessons-5-5/
LOCATION:Ranchmans\, 9615 Macleod Trail S\, Calgary\, Alberta\, T2J 0P6\, Canada
CATEGORIES:Two Step Lessons - Free
END:VEVENT
END:VCALENDAR