BEGIN:VCALENDAR
VERSION:2.0
PRODID:-//Ranchmans - ECPv6.8.3//NONSGML v1.0//EN
CALSCALE:GREGORIAN
METHOD:PUBLISH
X-ORIGINAL-URL:https://www.ranchmans.ca/events
X-WR-CALDESC:Events for Ranchmans
REFRESH-INTERVAL;VALUE=DURATION:PT1H
X-Robots-Tag:noindex
X-PUBLISHED-TTL:PT1H
BEGIN:VTIMEZONE
TZID:America/Edmonton
BEGIN:DAYLIGHT
TZOFFSETFROM:-0700
TZOFFSETTO:-0600
TZNAME:MDT
DTSTART:20260308T090000
END:DAYLIGHT
BEGIN:STANDARD
TZOFFSETFROM:-0600
TZOFFSETTO:-0700
TZNAME:MST
DTSTART:20261101T080000
END:STANDARD
END:VTIMEZONE
BEGIN:VEVENT
DTSTART;TZID=America/Edmonton:20260506T190000
DTEND;TZID=America/Edmonton:20260506T203000
DTSTAMP:20260422T064433
CREATED:20251208T192004Z
LAST-MODIFIED:20260302T233715Z
UID:10021294-1778094000-1778099400@www.ranchmans.ca
SUMMARY:Two-Step - Beginner
DESCRIPTION:Beginner Two-Step with Steve and Laurie   \nWeekly progressive lessons starting the first Wednesday of each month. FREE! \nWe offer FREE Country Dance Lessons on the largest dance floor in Calgary. No reservations are needed\, just join us on the dance floor! With decades of experience\, our instructors can tailor dances to any age (18+) and ability. \n\nDoors at 5pm\nBeginner Two-Step starting at 7 pm\nWING NIGHT: .1/2 Price Wings *with purchase of a beverage
URL:https://www.ranchmans.ca/events/event/two-step-beginner-3/2026-05-06/
LOCATION:Ranchmans\, 9615 Macleod Trail S\, Calgary\, Alberta\, T2J 0P6\, Canada
CATEGORIES:Two Step Lessons - Free
END:VEVENT
BEGIN:VEVENT
DTSTART;TZID=America/Edmonton:20260507T170000
DTEND;TZID=America/Edmonton:20260507T193000
DTSTAMP:20260422T064433
CREATED:20250409T154551Z
LAST-MODIFIED:20260304T182056Z
UID:10018064-1778173200-1778182200@www.ranchmans.ca
SUMMARY:Social Dance Thursdays
DESCRIPTION:Social Dance Thursdays: Open Floor Practice Time!🕔 5:00 PM – 7:30 PM \nGrab your partner (or come solo) and practice what you’ve learned! Whether you’re a beginner or an experienced dancer\, all skill levels are welcome. \nMix\, Mingle\, and Dance the Night Away \nDoors open at 5pm // FREE ENTRY Thursday Nights \nDinner Special 5pm-8pm: \n\nEnjoy our $9.95 Steak Sandwich *min 1 drink with order\n Sip on $5.75 6oz Glasses of Wine from\n\nStay for Free Dance Lessons starting at 7:30pm \nJoin Us for a Fun\, Evening of Dancing!
URL:https://www.ranchmans.ca/events/event/social-dance-thursdays/2026-05-07/
LOCATION:Ranchmans\, 9615 Macleod Trail S\, Calgary\, Alberta\, T2J 0P6\, Canada
CATEGORIES:Cha Cha Dance Lesson - Free,Country Swing Lessons - Free,Double Shuffle Lessons - Free,East Coast Swing,Line Dance Lessons - Free,Two Step Lessons - Free,West Coast Swing Lessons - Free
ATTACH;FMTTYPE=image/jpeg:https://www.ranchmans.ca/events/wp-content/uploads/2025/04/SocialdanceSquare-1.jpg
END:VEVENT
BEGIN:VEVENT
DTSTART;TZID=America/Edmonton:20260513T190000
DTEND;TZID=America/Edmonton:20260513T203000
DTSTAMP:20260422T064433
CREATED:20251208T192004Z
LAST-MODIFIED:20260302T233715Z
UID:10021295-1778698800-1778704200@www.ranchmans.ca
SUMMARY:Two-Step - Beginner
DESCRIPTION:Beginner Two-Step with Steve and Laurie   \nWeekly progressive lessons starting the first Wednesday of each month. FREE! \nWe offer FREE Country Dance Lessons on the largest dance floor in Calgary. No reservations are needed\, just join us on the dance floor! With decades of experience\, our instructors can tailor dances to any age (18+) and ability. \n\nDoors at 5pm\nBeginner Two-Step starting at 7 pm\nWING NIGHT: .1/2 Price Wings *with purchase of a beverage
URL:https://www.ranchmans.ca/events/event/two-step-beginner-3/2026-05-13/
LOCATION:Ranchmans\, 9615 Macleod Trail S\, Calgary\, Alberta\, T2J 0P6\, Canada
CATEGORIES:Two Step Lessons - Free
END:VEVENT
BEGIN:VEVENT
DTSTART;TZID=America/Edmonton:20260514T170000
DTEND;TZID=America/Edmonton:20260514T193000
DTSTAMP:20260422T064433
CREATED:20250409T154551Z
LAST-MODIFIED:20260304T182056Z
UID:10018065-1778778000-1778787000@www.ranchmans.ca
SUMMARY:Social Dance Thursdays
DESCRIPTION:Social Dance Thursdays: Open Floor Practice Time!🕔 5:00 PM – 7:30 PM \nGrab your partner (or come solo) and practice what you’ve learned! Whether you’re a beginner or an experienced dancer\, all skill levels are welcome. \nMix\, Mingle\, and Dance the Night Away \nDoors open at 5pm // FREE ENTRY Thursday Nights \nDinner Special 5pm-8pm: \n\nEnjoy our $9.95 Steak Sandwich *min 1 drink with order\n Sip on $5.75 6oz Glasses of Wine from\n\nStay for Free Dance Lessons starting at 7:30pm \nJoin Us for a Fun\, Evening of Dancing!
URL:https://www.ranchmans.ca/events/event/social-dance-thursdays/2026-05-14/
LOCATION:Ranchmans\, 9615 Macleod Trail S\, Calgary\, Alberta\, T2J 0P6\, Canada
CATEGORIES:Cha Cha Dance Lesson - Free,Country Swing Lessons - Free,Double Shuffle Lessons - Free,East Coast Swing,Line Dance Lessons - Free,Two Step Lessons - Free,West Coast Swing Lessons - Free
ATTACH;FMTTYPE=image/jpeg:https://www.ranchmans.ca/events/wp-content/uploads/2025/04/SocialdanceSquare-1.jpg
END:VEVENT
BEGIN:VEVENT
DTSTART;TZID=America/Edmonton:20260520T190000
DTEND;TZID=America/Edmonton:20260520T203000
DTSTAMP:20260422T064433
CREATED:20251208T192004Z
LAST-MODIFIED:20260302T233715Z
UID:10021296-1779303600-1779309000@www.ranchmans.ca
SUMMARY:Two-Step - Beginner
DESCRIPTION:Beginner Two-Step with Steve and Laurie   \nWeekly progressive lessons starting the first Wednesday of each month. FREE! \nWe offer FREE Country Dance Lessons on the largest dance floor in Calgary. No reservations are needed\, just join us on the dance floor! With decades of experience\, our instructors can tailor dances to any age (18+) and ability. \n\nDoors at 5pm\nBeginner Two-Step starting at 7 pm\nWING NIGHT: .1/2 Price Wings *with purchase of a beverage
URL:https://www.ranchmans.ca/events/event/two-step-beginner-3/2026-05-20/
LOCATION:Ranchmans\, 9615 Macleod Trail S\, Calgary\, Alberta\, T2J 0P6\, Canada
CATEGORIES:Two Step Lessons - Free
END:VEVENT
BEGIN:VEVENT
DTSTART;TZID=America/Edmonton:20260521T170000
DTEND;TZID=America/Edmonton:20260521T193000
DTSTAMP:20260422T064433
CREATED:20250409T154551Z
LAST-MODIFIED:20260304T182056Z
UID:10018066-1779382800-1779391800@www.ranchmans.ca
SUMMARY:Social Dance Thursdays
DESCRIPTION:Social Dance Thursdays: Open Floor Practice Time!🕔 5:00 PM – 7:30 PM \nGrab your partner (or come solo) and practice what you’ve learned! Whether you’re a beginner or an experienced dancer\, all skill levels are welcome. \nMix\, Mingle\, and Dance the Night Away \nDoors open at 5pm // FREE ENTRY Thursday Nights \nDinner Special 5pm-8pm: \n\nEnjoy our $9.95 Steak Sandwich *min 1 drink with order\n Sip on $5.75 6oz Glasses of Wine from\n\nStay for Free Dance Lessons starting at 7:30pm \nJoin Us for a Fun\, Evening of Dancing!
URL:https://www.ranchmans.ca/events/event/social-dance-thursdays/2026-05-21/
LOCATION:Ranchmans\, 9615 Macleod Trail S\, Calgary\, Alberta\, T2J 0P6\, Canada
CATEGORIES:Cha Cha Dance Lesson - Free,Country Swing Lessons - Free,Double Shuffle Lessons - Free,East Coast Swing,Line Dance Lessons - Free,Two Step Lessons - Free,West Coast Swing Lessons - Free
ATTACH;FMTTYPE=image/jpeg:https://www.ranchmans.ca/events/wp-content/uploads/2025/04/SocialdanceSquare-1.jpg
END:VEVENT
BEGIN:VEVENT
DTSTART;TZID=America/Edmonton:20260527T190000
DTEND;TZID=America/Edmonton:20260527T203000
DTSTAMP:20260422T064433
CREATED:20251208T192004Z
LAST-MODIFIED:20260302T233715Z
UID:10021297-1779908400-1779913800@www.ranchmans.ca
SUMMARY:Two-Step - Beginner
DESCRIPTION:Beginner Two-Step with Steve and Laurie   \nWeekly progressive lessons starting the first Wednesday of each month. FREE! \nWe offer FREE Country Dance Lessons on the largest dance floor in Calgary. No reservations are needed\, just join us on the dance floor! With decades of experience\, our instructors can tailor dances to any age (18+) and ability. \n\nDoors at 5pm\nBeginner Two-Step starting at 7 pm\nWING NIGHT: .1/2 Price Wings *with purchase of a beverage
URL:https://www.ranchmans.ca/events/event/two-step-beginner-3/2026-05-27/
LOCATION:Ranchmans\, 9615 Macleod Trail S\, Calgary\, Alberta\, T2J 0P6\, Canada
CATEGORIES:Two Step Lessons - Free
END:VEVENT
BEGIN:VEVENT
DTSTART;TZID=America/Edmonton:20260528T170000
DTEND;TZID=America/Edmonton:20260528T193000
DTSTAMP:20260422T064433
CREATED:20250409T154551Z
LAST-MODIFIED:20260304T182056Z
UID:10018067-1779987600-1779996600@www.ranchmans.ca
SUMMARY:Social Dance Thursdays
DESCRIPTION:Social Dance Thursdays: Open Floor Practice Time!🕔 5:00 PM – 7:30 PM \nGrab your partner (or come solo) and practice what you’ve learned! Whether you’re a beginner or an experienced dancer\, all skill levels are welcome. \nMix\, Mingle\, and Dance the Night Away \nDoors open at 5pm // FREE ENTRY Thursday Nights \nDinner Special 5pm-8pm: \n\nEnjoy our $9.95 Steak Sandwich *min 1 drink with order\n Sip on $5.75 6oz Glasses of Wine from\n\nStay for Free Dance Lessons starting at 7:30pm \nJoin Us for a Fun\, Evening of Dancing!
URL:https://www.ranchmans.ca/events/event/social-dance-thursdays/2026-05-28/
LOCATION:Ranchmans\, 9615 Macleod Trail S\, Calgary\, Alberta\, T2J 0P6\, Canada
CATEGORIES:Cha Cha Dance Lesson - Free,Country Swing Lessons - Free,Double Shuffle Lessons - Free,East Coast Swing,Line Dance Lessons - Free,Two Step Lessons - Free,West Coast Swing Lessons - Free
ATTACH;FMTTYPE=image/jpeg:https://www.ranchmans.ca/events/wp-content/uploads/2025/04/SocialdanceSquare-1.jpg
END:VEVENT
END:VCALENDAR