BEGIN:VCALENDAR
VERSION:2.0
PRODID:-//Ranchmans - ECPv6.8.3//NONSGML v1.0//EN
CALSCALE:GREGORIAN
METHOD:PUBLISH
X-ORIGINAL-URL:https://www.ranchmans.ca/events
X-WR-CALDESC:Events for Ranchmans
REFRESH-INTERVAL;VALUE=DURATION:PT1H
X-Robots-Tag:noindex
X-PUBLISHED-TTL:PT1H
BEGIN:VTIMEZONE
TZID:UTC
BEGIN:STANDARD
TZOFFSETFROM:+0000
TZOFFSETTO:+0000
TZNAME:UTC
DTSTART:20260101T000000
END:STANDARD
TZID:America/Edmonton
BEGIN:DAYLIGHT
TZOFFSETFROM:-0700
TZOFFSETTO:-0600
TZNAME:MDT
DTSTART:20260308T090000
END:DAYLIGHT
BEGIN:STANDARD
TZOFFSETFROM:-0600
TZOFFSETTO:-0700
TZNAME:MST
DTSTART:20261101T080000
END:STANDARD
END:VTIMEZONE
BEGIN:VEVENT
DTSTART;TZID=UTC:20260423T193000
DTEND;TZID=UTC:20260423T213000
DTSTAMP:20260423T052135
CREATED:20251014T213721Z
LAST-MODIFIED:20260331T193844Z
UID:10020646-1776972600-1776979800@www.ranchmans.ca
SUMMARY:Thursday - LOCAL VOCALS
DESCRIPTION:If you’ve never experienced hearing talented musicians perform in an intimate environment\, you are in for a treat. You’ll see anyone from artists hoping to break into the music scene\, to established stars showing up unannounced\, and everyone in between. \n\nDoors open 5pm.\nLocal Vocals from 7:30pm-9:30pm.\n\n\nSponsored by Plato’s Closet!\n\nApril 2nd\n– Mya Kate\n– Turner Bates\n\nApril 9th\n– Everlae\n– Jamie Playford\n\nApril 16th\n\n– Erika Mae\n– Kelsey Rust\n\n\nApril 23\n– Martin Desjarlais\n– Melissa Matheson\n\nApril 30\n– Claude Holtz\n– Riley Baldwin
URL:https://www.ranchmans.ca/events/event/thursday-local-vocals/2026-04-23/
LOCATION:Alberta
CATEGORIES:Show All Events,Weekly Live Music
ATTACH;FMTTYPE=image/jpeg:https://www.ranchmans.ca/events/wp-content/uploads/2025/10/LocalVocals2025square.jpg
END:VEVENT
BEGIN:VEVENT
DTSTART;TZID=UTC:20260423T223000
DTEND;TZID=UTC:20260423T223000
DTSTAMP:20260423T052135
CREATED:20230706T223038Z
LAST-MODIFIED:20251120T195817Z
UID:10009585-1776983400-1776983400@www.ranchmans.ca
SUMMARY:DJ Every Thursday Night
DESCRIPTION:Dj Start after the Dance Lessons
URL:https://www.ranchmans.ca/events/event/dj-tonight-3-2/2026-04-23/
LOCATION:Ranchmans\, 9615 Macleod Trail S\, Calgary\, Alberta\, T2J 0P6\, Canada
CATEGORIES:Show All Events,Weekly Live Music
ATTACH;FMTTYPE=image/jpeg:https://www.ranchmans.ca/events/wp-content/uploads/2023/01/DJthursday-1.jpg
END:VEVENT
BEGIN:VEVENT
DTSTART;TZID=America/Edmonton:20260424T170000
DTEND;TZID=America/Edmonton:20260425T020000
DTSTAMP:20260423T052135
CREATED:20260402T205424Z
LAST-MODIFIED:20260402T205424Z
UID:10022417-1777050000-1777082400@www.ranchmans.ca
SUMMARY:FIRE IT UP FOR STAMPEDE
DESCRIPTION:🔥 YOU’RE INVITED! 🔥Join us for our FIRE IT UP FOR STAMPEDE Party on Friday\, April 24th! \nKick off Stampede in style from 5–9 PM with: \n\nDelicious small bites\nRefreshing beverages samples\nExciting door prizes\n\n🎶 Enjoy live entertainment by Cole Martin\, stay for the evening with music followed by Nolan Compton—the perfectnight to get you in the Stampede spirit! \nDon’t miss the ultimate pre-Stampede celebration!
URL:https://www.ranchmans.ca/events/event/fire-it-up-for-stampede-3/
LOCATION:Ranchmans\, 9615 Macleod Trail S\, Calgary\, Alberta\, T2J 0P6\, Canada
CATEGORIES:Show All Events,Themed Events,Weekly Live Music
ATTACH;FMTTYPE=image/jpeg:https://www.ranchmans.ca/events/wp-content/uploads/2026/04/Fireitup2026square.jpg
END:VEVENT
BEGIN:VEVENT
DTSTART;TZID=America/Edmonton:20260424T210000
DTEND;TZID=America/Edmonton:20260424T233000
DTSTAMP:20260423T052135
CREATED:20260316T173249Z
LAST-MODIFIED:20260316T173249Z
UID:10022312-1777064400-1777073400@www.ranchmans.ca
SUMMARY:Nolan Compton LIVE
DESCRIPTION:Inspired by everyday life in rural Prince Edward Island\, Nolan creates music that reflects the authentic country lifestyle in which he lives. Growing up on the family potato farm with the sounds of Merle Haggard\, Keith Whitley\, and George Strait on the radio\, Nolan’s music nods to his early influences and pairs it with a modern country style reminiscent of Josh Turner\, Chris Young\, and Luke Combs. \nNolan’s early career has already drawn lots of attention to his name after launching his debut single Unbelievable. Unbelievable has over 20\,000 streams and has radio plays all over Canada. It was the fifth most-downloaded country single on September 21/21\, and he was the most active independent artist that week. \nNolan followed up the single with a six-song EP\, Born and Raised\, released June 3rd\, 2022. These songs explode with energy and include some of Canada’s top-tier and CCMA award-winning musicians; Jason Barry\, Ed “Peewee Charles” Ringwald\, and Shane Guse. \nOn January 15th\, the song Brought Up (off the Born and Raised EP) was crowned the #1 song on the Canadian Indie Country Countdown. \nMusic PEI recently announced the nominees for the 2023 Music PEI Awards. Nolan is a nominee for New Artist of the Year\, Roots Recording of the Year\, and Rock Recording of the Year. \nNolan relocated to Calgary\, AB to further pursue and grow his brand as he makes new connections within the country music market in Western Canada.
URL:https://www.ranchmans.ca/events/event/nolan-compton-live-8/2026-04-24/
LOCATION:Ranchmans\, 9615 Macleod Trail S\, Calgary\, Alberta\, T2J 0P6\, Canada
CATEGORIES:Ranchmans,Weekly Live Music
ATTACH;FMTTYPE=image/jpeg:https://www.ranchmans.ca/events/wp-content/uploads/2025/12/Nc.jpg
END:VEVENT
BEGIN:VEVENT
DTSTART;TZID=America/Edmonton:20260424T233000
DTEND;TZID=America/Edmonton:20260425T020000
DTSTAMP:20260423T052135
CREATED:20240228T154857Z
LAST-MODIFIED:20260326T160703Z
UID:10013007-1777073400-1777082400@www.ranchmans.ca
SUMMARY:DJ Every Friday Night
DESCRIPTION:Unbeatable energy continues with DJ DAVE every weekend after the Band\, always playing the greatest country and line dancing hits.
URL:https://www.ranchmans.ca/events/event/dj-every-friday-night/2026-04-24/
LOCATION:Alberta
CATEGORIES:Show All Events,Weekly Live Music
ATTACH;FMTTYPE=image/jpeg:https://www.ranchmans.ca/events/wp-content/uploads/2023/02/DJDAVE.jpg
END:VEVENT
BEGIN:VEVENT
DTSTART;TZID=America/Edmonton:20260425T163000
DTEND;TZID=America/Edmonton:20260425T203000
DTSTAMP:20260423T052135
CREATED:20230307T232656Z
LAST-MODIFIED:20250520T212437Z
UID:10013316-1777134600-1777149000@www.ranchmans.ca
SUMMARY:Saturday Afternoon Jam
DESCRIPTION:Ranchmans Saturday Jam from 4:30pm to 8:30pm. Come for the Jam\, stay for the night! FREE ENTRY UNTIL 8PM! \nThis weekly event draws big crowds and even bigger artists. You never know who else is going to hop on stage—guest appearances happen regularly at our Saturday Jam hosted by Chuck McEwen
URL:https://www.ranchmans.ca/events/event/free-saturday-jam-2-2-2/2026-04-25/
LOCATION:Ranchmans\, 9615 Macleod Trail S\, Calgary\, Alberta\, T2J 0P6\, Canada
CATEGORIES:Show All Events,Weekly Live Music
ATTACH;FMTTYPE=image/jpeg:https://www.ranchmans.ca/events/wp-content/uploads/2023/03/AFTERNOONJAMsquare.jpg
END:VEVENT
BEGIN:VEVENT
DTSTART;TZID=America/Edmonton:20260425T203000
DTEND;TZID=America/Edmonton:20260425T233000
DTSTAMP:20260423T052135
CREATED:20260316T173249Z
LAST-MODIFIED:20260316T173249Z
UID:10022313-1777149000-1777159800@www.ranchmans.ca
SUMMARY:Nolan Compton LIVE
DESCRIPTION:Inspired by everyday life in rural Prince Edward Island\, Nolan creates music that reflects the authentic country lifestyle in which he lives. Growing up on the family potato farm with the sounds of Merle Haggard\, Keith Whitley\, and George Strait on the radio\, Nolan’s music nods to his early influences and pairs it with a modern country style reminiscent of Josh Turner\, Chris Young\, and Luke Combs. \nNolan’s early career has already drawn lots of attention to his name after launching his debut single Unbelievable. Unbelievable has over 20\,000 streams and has radio plays all over Canada. It was the fifth most-downloaded country single on September 21/21\, and he was the most active independent artist that week. \nNolan followed up the single with a six-song EP\, Born and Raised\, released June 3rd\, 2022. These songs explode with energy and include some of Canada’s top-tier and CCMA award-winning musicians; Jason Barry\, Ed “Peewee Charles” Ringwald\, and Shane Guse. \nOn January 15th\, the song Brought Up (off the Born and Raised EP) was crowned the #1 song on the Canadian Indie Country Countdown. \nMusic PEI recently announced the nominees for the 2023 Music PEI Awards. Nolan is a nominee for New Artist of the Year\, Roots Recording of the Year\, and Rock Recording of the Year. \nNolan relocated to Calgary\, AB to further pursue and grow his brand as he makes new connections within the country music market in Western Canada.
URL:https://www.ranchmans.ca/events/event/nolan-compton-live-8/2026-04-25/
LOCATION:Ranchmans\, 9615 Macleod Trail S\, Calgary\, Alberta\, T2J 0P6\, Canada
CATEGORIES:Ranchmans,Weekly Live Music
ATTACH;FMTTYPE=image/jpeg:https://www.ranchmans.ca/events/wp-content/uploads/2025/12/Nc.jpg
END:VEVENT
BEGIN:VEVENT
DTSTART;TZID=America/Edmonton:20260425T233000
DTEND;TZID=America/Edmonton:20260426T020000
DTSTAMP:20260423T052135
CREATED:20230222T193820Z
LAST-MODIFIED:20260326T160731Z
UID:10012700-1777159800-1777168800@www.ranchmans.ca
SUMMARY:DJ Every Saturday Night
DESCRIPTION:Unbeatable energy continues with DJ DAVE every weekend after the Band\, always playing the greatest country and line dancing hits.
URL:https://www.ranchmans.ca/events/event/dj-every-saturday-night/2026-04-25/
LOCATION:Ranchmans\, 9615 Macleod Trail S\, Calgary\, Alberta\, T2J 0P6\, Canada
CATEGORIES:Ranchmans,Show All Events,Weekly Live Music
ATTACH;FMTTYPE=image/jpeg:https://www.ranchmans.ca/events/wp-content/uploads/2023/02/DJDAVE.jpg
END:VEVENT
END:VCALENDAR