BEGIN:VCALENDAR
VERSION:2.0
PRODID:-//Ranchmans - ECPv6.8.3//NONSGML v1.0//EN
CALSCALE:GREGORIAN
METHOD:PUBLISH
X-ORIGINAL-URL:https://www.ranchmans.ca/events
X-WR-CALDESC:Events for Ranchmans
REFRESH-INTERVAL;VALUE=DURATION:PT1H
X-Robots-Tag:noindex
X-PUBLISHED-TTL:PT1H
BEGIN:VTIMEZONE
TZID:America/Edmonton
BEGIN:DAYLIGHT
TZOFFSETFROM:-0700
TZOFFSETTO:-0600
TZNAME:MDT
DTSTART:20310309T090000
END:DAYLIGHT
BEGIN:STANDARD
TZOFFSETFROM:-0600
TZOFFSETTO:-0700
TZNAME:MST
DTSTART:20311102T080000
END:STANDARD
TZID:UTC
BEGIN:STANDARD
TZOFFSETFROM:+0000
TZOFFSETTO:+0000
TZNAME:UTC
DTSTART:20310101T000000
END:STANDARD
END:VTIMEZONE
BEGIN:VEVENT
DTSTART;TZID=America/Edmonton:20310111T233000
DTEND;TZID=America/Edmonton:20310112T020000
DTSTAMP:20260424T113454
CREATED:20230222T193820Z
LAST-MODIFIED:20260326T160731Z
UID:10022396-1925940600-1925949600@www.ranchmans.ca
SUMMARY:DJ Every Saturday Night
DESCRIPTION:Unbeatable energy continues with DJ DAVE every weekend after the Band\, always playing the greatest country and line dancing hits.
URL:https://www.ranchmans.ca/events/event/dj-every-saturday-night/2031-01-11/
LOCATION:Ranchmans\, 9615 Macleod Trail S\, Calgary\, Alberta\, T2J 0P6\, Canada
CATEGORIES:Ranchmans,Show All Events,Weekly Live Music
ATTACH;FMTTYPE=image/jpeg:https://www.ranchmans.ca/events/wp-content/uploads/2023/02/DJDAVE.jpg
END:VEVENT
BEGIN:VEVENT
DTSTART;TZID=UTC:20310116T193000
DTEND;TZID=UTC:20310116T213000
DTSTAMP:20260424T113454
CREATED:20251014T213721Z
LAST-MODIFIED:20260331T193844Z
UID:10021620-1926358200-1926365400@www.ranchmans.ca
SUMMARY:Thursday - LOCAL VOCALS
DESCRIPTION:If you’ve never experienced hearing talented musicians perform in an intimate environment\, you are in for a treat. You’ll see anyone from artists hoping to break into the music scene\, to established stars showing up unannounced\, and everyone in between. \n\nDoors open 5pm.\nLocal Vocals from 7:30pm-9:30pm.\n\n\nSponsored by Plato’s Closet!\n\nApril 2nd\n– Mya Kate\n– Turner Bates\n\nApril 9th\n– Everlae\n– Jamie Playford\n\nApril 16th\n\n– Erika Mae\n– Kelsey Rust\n\n\nApril 23\n– Martin Desjarlais\n– Melissa Matheson\n\nApril 30\n– Claude Holtz\n– Riley Baldwin
URL:https://www.ranchmans.ca/events/event/thursday-local-vocals/2031-01-16/
CATEGORIES:Show All Events,Weekly Live Music
ATTACH;FMTTYPE=image/jpeg:https://www.ranchmans.ca/events/wp-content/uploads/2025/10/LocalVocals2025square.jpg
END:VEVENT
BEGIN:VEVENT
DTSTART;TZID=America/Edmonton:20310117T233000
DTEND;TZID=America/Edmonton:20310118T020000
DTSTAMP:20260424T113454
CREATED:20240228T154857Z
LAST-MODIFIED:20260326T160703Z
UID:10022354-1926459000-1926468000@www.ranchmans.ca
SUMMARY:DJ Every Friday Night
DESCRIPTION:Unbeatable energy continues with DJ DAVE every weekend after the Band\, always playing the greatest country and line dancing hits.
URL:https://www.ranchmans.ca/events/event/dj-every-friday-night/2031-01-17/
CATEGORIES:Show All Events,Weekly Live Music
ATTACH;FMTTYPE=image/jpeg:https://www.ranchmans.ca/events/wp-content/uploads/2023/02/DJDAVE.jpg
END:VEVENT
BEGIN:VEVENT
DTSTART;TZID=America/Edmonton:20310118T233000
DTEND;TZID=America/Edmonton:20310119T020000
DTSTAMP:20260424T113454
CREATED:20230222T193820Z
LAST-MODIFIED:20260326T160731Z
UID:10022397-1926545400-1926554400@www.ranchmans.ca
SUMMARY:DJ Every Saturday Night
DESCRIPTION:Unbeatable energy continues with DJ DAVE every weekend after the Band\, always playing the greatest country and line dancing hits.
URL:https://www.ranchmans.ca/events/event/dj-every-saturday-night/2031-01-18/
LOCATION:Ranchmans\, 9615 Macleod Trail S\, Calgary\, Alberta\, T2J 0P6\, Canada
CATEGORIES:Ranchmans,Show All Events,Weekly Live Music
ATTACH;FMTTYPE=image/jpeg:https://www.ranchmans.ca/events/wp-content/uploads/2023/02/DJDAVE.jpg
END:VEVENT
BEGIN:VEVENT
DTSTART;TZID=UTC:20310123T193000
DTEND;TZID=UTC:20310123T213000
DTSTAMP:20260424T113454
CREATED:20251014T213721Z
LAST-MODIFIED:20260331T193844Z
UID:10021621-1926963000-1926970200@www.ranchmans.ca
SUMMARY:Thursday - LOCAL VOCALS
DESCRIPTION:If you’ve never experienced hearing talented musicians perform in an intimate environment\, you are in for a treat. You’ll see anyone from artists hoping to break into the music scene\, to established stars showing up unannounced\, and everyone in between. \n\nDoors open 5pm.\nLocal Vocals from 7:30pm-9:30pm.\n\n\nSponsored by Plato’s Closet!\n\nApril 2nd\n– Mya Kate\n– Turner Bates\n\nApril 9th\n– Everlae\n– Jamie Playford\n\nApril 16th\n\n– Erika Mae\n– Kelsey Rust\n\n\nApril 23\n– Martin Desjarlais\n– Melissa Matheson\n\nApril 30\n– Claude Holtz\n– Riley Baldwin
URL:https://www.ranchmans.ca/events/event/thursday-local-vocals/2031-01-23/
CATEGORIES:Show All Events,Weekly Live Music
ATTACH;FMTTYPE=image/jpeg:https://www.ranchmans.ca/events/wp-content/uploads/2025/10/LocalVocals2025square.jpg
END:VEVENT
BEGIN:VEVENT
DTSTART;TZID=America/Edmonton:20310124T233000
DTEND;TZID=America/Edmonton:20310125T020000
DTSTAMP:20260424T113454
CREATED:20240228T154857Z
LAST-MODIFIED:20260326T160703Z
UID:10022355-1927063800-1927072800@www.ranchmans.ca
SUMMARY:DJ Every Friday Night
DESCRIPTION:Unbeatable energy continues with DJ DAVE every weekend after the Band\, always playing the greatest country and line dancing hits.
URL:https://www.ranchmans.ca/events/event/dj-every-friday-night/2031-01-24/
CATEGORIES:Show All Events,Weekly Live Music
ATTACH;FMTTYPE=image/jpeg:https://www.ranchmans.ca/events/wp-content/uploads/2023/02/DJDAVE.jpg
END:VEVENT
BEGIN:VEVENT
DTSTART;TZID=America/Edmonton:20310125T233000
DTEND;TZID=America/Edmonton:20310126T020000
DTSTAMP:20260424T113454
CREATED:20230222T193820Z
LAST-MODIFIED:20260326T160731Z
UID:10022398-1927150200-1927159200@www.ranchmans.ca
SUMMARY:DJ Every Saturday Night
DESCRIPTION:Unbeatable energy continues with DJ DAVE every weekend after the Band\, always playing the greatest country and line dancing hits.
URL:https://www.ranchmans.ca/events/event/dj-every-saturday-night/2031-01-25/
LOCATION:Ranchmans\, 9615 Macleod Trail S\, Calgary\, Alberta\, T2J 0P6\, Canada
CATEGORIES:Ranchmans,Show All Events,Weekly Live Music
ATTACH;FMTTYPE=image/jpeg:https://www.ranchmans.ca/events/wp-content/uploads/2023/02/DJDAVE.jpg
END:VEVENT
BEGIN:VEVENT
DTSTART;TZID=UTC:20310130T193000
DTEND;TZID=UTC:20310130T213000
DTSTAMP:20260424T113454
CREATED:20251014T213721Z
LAST-MODIFIED:20260331T193844Z
UID:10021622-1927567800-1927575000@www.ranchmans.ca
SUMMARY:Thursday - LOCAL VOCALS
DESCRIPTION:If you’ve never experienced hearing talented musicians perform in an intimate environment\, you are in for a treat. You’ll see anyone from artists hoping to break into the music scene\, to established stars showing up unannounced\, and everyone in between. \n\nDoors open 5pm.\nLocal Vocals from 7:30pm-9:30pm.\n\n\nSponsored by Plato’s Closet!\n\nApril 2nd\n– Mya Kate\n– Turner Bates\n\nApril 9th\n– Everlae\n– Jamie Playford\n\nApril 16th\n\n– Erika Mae\n– Kelsey Rust\n\n\nApril 23\n– Martin Desjarlais\n– Melissa Matheson\n\nApril 30\n– Claude Holtz\n– Riley Baldwin
URL:https://www.ranchmans.ca/events/event/thursday-local-vocals/2031-01-30/
CATEGORIES:Show All Events,Weekly Live Music
ATTACH;FMTTYPE=image/jpeg:https://www.ranchmans.ca/events/wp-content/uploads/2025/10/LocalVocals2025square.jpg
END:VEVENT
BEGIN:VEVENT
DTSTART;TZID=America/Edmonton:20310131T233000
DTEND;TZID=America/Edmonton:20310201T020000
DTSTAMP:20260424T113454
CREATED:20240228T154857Z
LAST-MODIFIED:20260326T160703Z
UID:10022356-1927668600-1927677600@www.ranchmans.ca
SUMMARY:DJ Every Friday Night
DESCRIPTION:Unbeatable energy continues with DJ DAVE every weekend after the Band\, always playing the greatest country and line dancing hits.
URL:https://www.ranchmans.ca/events/event/dj-every-friday-night/2031-01-31/
CATEGORIES:Show All Events,Weekly Live Music
ATTACH;FMTTYPE=image/jpeg:https://www.ranchmans.ca/events/wp-content/uploads/2023/02/DJDAVE.jpg
END:VEVENT
BEGIN:VEVENT
DTSTART;TZID=America/Edmonton:20310201T233000
DTEND;TZID=America/Edmonton:20310202T020000
DTSTAMP:20260424T113454
CREATED:20230222T193820Z
LAST-MODIFIED:20260326T160731Z
UID:10022399-1927755000-1927764000@www.ranchmans.ca
SUMMARY:DJ Every Saturday Night
DESCRIPTION:Unbeatable energy continues with DJ DAVE every weekend after the Band\, always playing the greatest country and line dancing hits.
URL:https://www.ranchmans.ca/events/event/dj-every-saturday-night/2031-02-01/
LOCATION:Ranchmans\, 9615 Macleod Trail S\, Calgary\, Alberta\, T2J 0P6\, Canada
CATEGORIES:Ranchmans,Show All Events,Weekly Live Music
ATTACH;FMTTYPE=image/jpeg:https://www.ranchmans.ca/events/wp-content/uploads/2023/02/DJDAVE.jpg
END:VEVENT
BEGIN:VEVENT
DTSTART;TZID=UTC:20310206T193000
DTEND;TZID=UTC:20310206T213000
DTSTAMP:20260424T113454
CREATED:20251014T213721Z
LAST-MODIFIED:20260331T193844Z
UID:10021627-1928172600-1928179800@www.ranchmans.ca
SUMMARY:Thursday - LOCAL VOCALS
DESCRIPTION:If you’ve never experienced hearing talented musicians perform in an intimate environment\, you are in for a treat. You’ll see anyone from artists hoping to break into the music scene\, to established stars showing up unannounced\, and everyone in between. \n\nDoors open 5pm.\nLocal Vocals from 7:30pm-9:30pm.\n\n\nSponsored by Plato’s Closet!\n\nApril 2nd\n– Mya Kate\n– Turner Bates\n\nApril 9th\n– Everlae\n– Jamie Playford\n\nApril 16th\n\n– Erika Mae\n– Kelsey Rust\n\n\nApril 23\n– Martin Desjarlais\n– Melissa Matheson\n\nApril 30\n– Claude Holtz\n– Riley Baldwin
URL:https://www.ranchmans.ca/events/event/thursday-local-vocals/2031-02-06/
CATEGORIES:Show All Events,Weekly Live Music
ATTACH;FMTTYPE=image/jpeg:https://www.ranchmans.ca/events/wp-content/uploads/2025/10/LocalVocals2025square.jpg
END:VEVENT
BEGIN:VEVENT
DTSTART;TZID=America/Edmonton:20310207T233000
DTEND;TZID=America/Edmonton:20310208T020000
DTSTAMP:20260424T113454
CREATED:20240228T154857Z
LAST-MODIFIED:20260326T160703Z
UID:10022357-1928273400-1928282400@www.ranchmans.ca
SUMMARY:DJ Every Friday Night
DESCRIPTION:Unbeatable energy continues with DJ DAVE every weekend after the Band\, always playing the greatest country and line dancing hits.
URL:https://www.ranchmans.ca/events/event/dj-every-friday-night/2031-02-07/
CATEGORIES:Show All Events,Weekly Live Music
ATTACH;FMTTYPE=image/jpeg:https://www.ranchmans.ca/events/wp-content/uploads/2023/02/DJDAVE.jpg
END:VEVENT
BEGIN:VEVENT
DTSTART;TZID=America/Edmonton:20310208T233000
DTEND;TZID=America/Edmonton:20310209T020000
DTSTAMP:20260424T113454
CREATED:20230222T193820Z
LAST-MODIFIED:20260326T160731Z
UID:10022400-1928359800-1928368800@www.ranchmans.ca
SUMMARY:DJ Every Saturday Night
DESCRIPTION:Unbeatable energy continues with DJ DAVE every weekend after the Band\, always playing the greatest country and line dancing hits.
URL:https://www.ranchmans.ca/events/event/dj-every-saturday-night/2031-02-08/
LOCATION:Ranchmans\, 9615 Macleod Trail S\, Calgary\, Alberta\, T2J 0P6\, Canada
CATEGORIES:Ranchmans,Show All Events,Weekly Live Music
ATTACH;FMTTYPE=image/jpeg:https://www.ranchmans.ca/events/wp-content/uploads/2023/02/DJDAVE.jpg
END:VEVENT
BEGIN:VEVENT
DTSTART;TZID=UTC:20310213T193000
DTEND;TZID=UTC:20310213T213000
DTSTAMP:20260424T113454
CREATED:20251014T213721Z
LAST-MODIFIED:20260331T193844Z
UID:10021628-1928777400-1928784600@www.ranchmans.ca
SUMMARY:Thursday - LOCAL VOCALS
DESCRIPTION:If you’ve never experienced hearing talented musicians perform in an intimate environment\, you are in for a treat. You’ll see anyone from artists hoping to break into the music scene\, to established stars showing up unannounced\, and everyone in between. \n\nDoors open 5pm.\nLocal Vocals from 7:30pm-9:30pm.\n\n\nSponsored by Plato’s Closet!\n\nApril 2nd\n– Mya Kate\n– Turner Bates\n\nApril 9th\n– Everlae\n– Jamie Playford\n\nApril 16th\n\n– Erika Mae\n– Kelsey Rust\n\n\nApril 23\n– Martin Desjarlais\n– Melissa Matheson\n\nApril 30\n– Claude Holtz\n– Riley Baldwin
URL:https://www.ranchmans.ca/events/event/thursday-local-vocals/2031-02-13/
CATEGORIES:Show All Events,Weekly Live Music
ATTACH;FMTTYPE=image/jpeg:https://www.ranchmans.ca/events/wp-content/uploads/2025/10/LocalVocals2025square.jpg
END:VEVENT
BEGIN:VEVENT
DTSTART;TZID=America/Edmonton:20310214T233000
DTEND;TZID=America/Edmonton:20310215T020000
DTSTAMP:20260424T113454
CREATED:20240228T154857Z
LAST-MODIFIED:20260326T160703Z
UID:10022358-1928878200-1928887200@www.ranchmans.ca
SUMMARY:DJ Every Friday Night
DESCRIPTION:Unbeatable energy continues with DJ DAVE every weekend after the Band\, always playing the greatest country and line dancing hits.
URL:https://www.ranchmans.ca/events/event/dj-every-friday-night/2031-02-14/
CATEGORIES:Show All Events,Weekly Live Music
ATTACH;FMTTYPE=image/jpeg:https://www.ranchmans.ca/events/wp-content/uploads/2023/02/DJDAVE.jpg
END:VEVENT
BEGIN:VEVENT
DTSTART;TZID=America/Edmonton:20310215T233000
DTEND;TZID=America/Edmonton:20310216T020000
DTSTAMP:20260424T113454
CREATED:20230222T193820Z
LAST-MODIFIED:20260326T160731Z
UID:10022401-1928964600-1928973600@www.ranchmans.ca
SUMMARY:DJ Every Saturday Night
DESCRIPTION:Unbeatable energy continues with DJ DAVE every weekend after the Band\, always playing the greatest country and line dancing hits.
URL:https://www.ranchmans.ca/events/event/dj-every-saturday-night/2031-02-15/
LOCATION:Ranchmans\, 9615 Macleod Trail S\, Calgary\, Alberta\, T2J 0P6\, Canada
CATEGORIES:Ranchmans,Show All Events,Weekly Live Music
ATTACH;FMTTYPE=image/jpeg:https://www.ranchmans.ca/events/wp-content/uploads/2023/02/DJDAVE.jpg
END:VEVENT
BEGIN:VEVENT
DTSTART;TZID=UTC:20310220T193000
DTEND;TZID=UTC:20310220T213000
DTSTAMP:20260424T113454
CREATED:20251014T213721Z
LAST-MODIFIED:20260331T193844Z
UID:10022411-1929382200-1929389400@www.ranchmans.ca
SUMMARY:Thursday - LOCAL VOCALS
DESCRIPTION:If you’ve never experienced hearing talented musicians perform in an intimate environment\, you are in for a treat. You’ll see anyone from artists hoping to break into the music scene\, to established stars showing up unannounced\, and everyone in between. \n\nDoors open 5pm.\nLocal Vocals from 7:30pm-9:30pm.\n\n\nSponsored by Plato’s Closet!\n\nApril 2nd\n– Mya Kate\n– Turner Bates\n\nApril 9th\n– Everlae\n– Jamie Playford\n\nApril 16th\n\n– Erika Mae\n– Kelsey Rust\n\n\nApril 23\n– Martin Desjarlais\n– Melissa Matheson\n\nApril 30\n– Claude Holtz\n– Riley Baldwin
URL:https://www.ranchmans.ca/events/event/thursday-local-vocals/2031-02-20/
CATEGORIES:Show All Events,Weekly Live Music
ATTACH;FMTTYPE=image/jpeg:https://www.ranchmans.ca/events/wp-content/uploads/2025/10/LocalVocals2025square.jpg
END:VEVENT
BEGIN:VEVENT
DTSTART;TZID=America/Edmonton:20310221T233000
DTEND;TZID=America/Edmonton:20310222T020000
DTSTAMP:20260424T113454
CREATED:20240228T154857Z
LAST-MODIFIED:20260326T160703Z
UID:10022359-1929483000-1929492000@www.ranchmans.ca
SUMMARY:DJ Every Friday Night
DESCRIPTION:Unbeatable energy continues with DJ DAVE every weekend after the Band\, always playing the greatest country and line dancing hits.
URL:https://www.ranchmans.ca/events/event/dj-every-friday-night/2031-02-21/
CATEGORIES:Show All Events,Weekly Live Music
ATTACH;FMTTYPE=image/jpeg:https://www.ranchmans.ca/events/wp-content/uploads/2023/02/DJDAVE.jpg
END:VEVENT
BEGIN:VEVENT
DTSTART;TZID=America/Edmonton:20310222T233000
DTEND;TZID=America/Edmonton:20310223T020000
DTSTAMP:20260424T113454
CREATED:20230222T193820Z
LAST-MODIFIED:20260326T160731Z
UID:10022402-1929569400-1929578400@www.ranchmans.ca
SUMMARY:DJ Every Saturday Night
DESCRIPTION:Unbeatable energy continues with DJ DAVE every weekend after the Band\, always playing the greatest country and line dancing hits.
URL:https://www.ranchmans.ca/events/event/dj-every-saturday-night/2031-02-22/
LOCATION:Ranchmans\, 9615 Macleod Trail S\, Calgary\, Alberta\, T2J 0P6\, Canada
CATEGORIES:Ranchmans,Show All Events,Weekly Live Music
ATTACH;FMTTYPE=image/jpeg:https://www.ranchmans.ca/events/wp-content/uploads/2023/02/DJDAVE.jpg
END:VEVENT
BEGIN:VEVENT
DTSTART;TZID=UTC:20310227T193000
DTEND;TZID=UTC:20310227T213000
DTSTAMP:20260424T113454
CREATED:20251014T213721Z
LAST-MODIFIED:20260331T193844Z
UID:10022412-1929987000-1929994200@www.ranchmans.ca
SUMMARY:Thursday - LOCAL VOCALS
DESCRIPTION:If you’ve never experienced hearing talented musicians perform in an intimate environment\, you are in for a treat. You’ll see anyone from artists hoping to break into the music scene\, to established stars showing up unannounced\, and everyone in between. \n\nDoors open 5pm.\nLocal Vocals from 7:30pm-9:30pm.\n\n\nSponsored by Plato’s Closet!\n\nApril 2nd\n– Mya Kate\n– Turner Bates\n\nApril 9th\n– Everlae\n– Jamie Playford\n\nApril 16th\n\n– Erika Mae\n– Kelsey Rust\n\n\nApril 23\n– Martin Desjarlais\n– Melissa Matheson\n\nApril 30\n– Claude Holtz\n– Riley Baldwin
URL:https://www.ranchmans.ca/events/event/thursday-local-vocals/2031-02-27/
CATEGORIES:Show All Events,Weekly Live Music
ATTACH;FMTTYPE=image/jpeg:https://www.ranchmans.ca/events/wp-content/uploads/2025/10/LocalVocals2025square.jpg
END:VEVENT
BEGIN:VEVENT
DTSTART;TZID=America/Edmonton:20310228T233000
DTEND;TZID=America/Edmonton:20310301T020000
DTSTAMP:20260424T113454
CREATED:20240228T154857Z
LAST-MODIFIED:20260326T160703Z
UID:10022360-1930087800-1930096800@www.ranchmans.ca
SUMMARY:DJ Every Friday Night
DESCRIPTION:Unbeatable energy continues with DJ DAVE every weekend after the Band\, always playing the greatest country and line dancing hits.
URL:https://www.ranchmans.ca/events/event/dj-every-friday-night/2031-02-28/
CATEGORIES:Show All Events,Weekly Live Music
ATTACH;FMTTYPE=image/jpeg:https://www.ranchmans.ca/events/wp-content/uploads/2023/02/DJDAVE.jpg
END:VEVENT
BEGIN:VEVENT
DTSTART;TZID=America/Edmonton:20310301T233000
DTEND;TZID=America/Edmonton:20310302T020000
DTSTAMP:20260424T113454
CREATED:20230222T193820Z
LAST-MODIFIED:20260326T160731Z
UID:10022403-1930174200-1930183200@www.ranchmans.ca
SUMMARY:DJ Every Saturday Night
DESCRIPTION:Unbeatable energy continues with DJ DAVE every weekend after the Band\, always playing the greatest country and line dancing hits.
URL:https://www.ranchmans.ca/events/event/dj-every-saturday-night/2031-03-01/
LOCATION:Ranchmans\, 9615 Macleod Trail S\, Calgary\, Alberta\, T2J 0P6\, Canada
CATEGORIES:Ranchmans,Show All Events,Weekly Live Music
ATTACH;FMTTYPE=image/jpeg:https://www.ranchmans.ca/events/wp-content/uploads/2023/02/DJDAVE.jpg
END:VEVENT
BEGIN:VEVENT
DTSTART;TZID=UTC:20310306T193000
DTEND;TZID=UTC:20310306T213000
DTSTAMP:20260424T113454
CREATED:20251014T213721Z
LAST-MODIFIED:20260331T193844Z
UID:10022413-1930591800-1930599000@www.ranchmans.ca
SUMMARY:Thursday - LOCAL VOCALS
DESCRIPTION:If you’ve never experienced hearing talented musicians perform in an intimate environment\, you are in for a treat. You’ll see anyone from artists hoping to break into the music scene\, to established stars showing up unannounced\, and everyone in between. \n\nDoors open 5pm.\nLocal Vocals from 7:30pm-9:30pm.\n\n\nSponsored by Plato’s Closet!\n\nApril 2nd\n– Mya Kate\n– Turner Bates\n\nApril 9th\n– Everlae\n– Jamie Playford\n\nApril 16th\n\n– Erika Mae\n– Kelsey Rust\n\n\nApril 23\n– Martin Desjarlais\n– Melissa Matheson\n\nApril 30\n– Claude Holtz\n– Riley Baldwin
URL:https://www.ranchmans.ca/events/event/thursday-local-vocals/2031-03-06/
CATEGORIES:Show All Events,Weekly Live Music
ATTACH;FMTTYPE=image/jpeg:https://www.ranchmans.ca/events/wp-content/uploads/2025/10/LocalVocals2025square.jpg
END:VEVENT
BEGIN:VEVENT
DTSTART;TZID=America/Edmonton:20310307T233000
DTEND;TZID=America/Edmonton:20310308T020000
DTSTAMP:20260424T113454
CREATED:20240228T154857Z
LAST-MODIFIED:20260326T160703Z
UID:10022361-1930692600-1930701600@www.ranchmans.ca
SUMMARY:DJ Every Friday Night
DESCRIPTION:Unbeatable energy continues with DJ DAVE every weekend after the Band\, always playing the greatest country and line dancing hits.
URL:https://www.ranchmans.ca/events/event/dj-every-friday-night/2031-03-07/
CATEGORIES:Show All Events,Weekly Live Music
ATTACH;FMTTYPE=image/jpeg:https://www.ranchmans.ca/events/wp-content/uploads/2023/02/DJDAVE.jpg
END:VEVENT
BEGIN:VEVENT
DTSTART;TZID=America/Edmonton:20310308T233000
DTEND;TZID=America/Edmonton:20310309T030000
DTSTAMP:20260424T113454
CREATED:20230222T193820Z
LAST-MODIFIED:20260326T160731Z
UID:10022404-1930779000-1930791600@www.ranchmans.ca
SUMMARY:DJ Every Saturday Night
DESCRIPTION:Unbeatable energy continues with DJ DAVE every weekend after the Band\, always playing the greatest country and line dancing hits.
URL:https://www.ranchmans.ca/events/event/dj-every-saturday-night/2031-03-08/
LOCATION:Ranchmans\, 9615 Macleod Trail S\, Calgary\, Alberta\, T2J 0P6\, Canada
CATEGORIES:Ranchmans,Show All Events,Weekly Live Music
ATTACH;FMTTYPE=image/jpeg:https://www.ranchmans.ca/events/wp-content/uploads/2023/02/DJDAVE.jpg
END:VEVENT
BEGIN:VEVENT
DTSTART;TZID=UTC:20310313T193000
DTEND;TZID=UTC:20310313T213000
DTSTAMP:20260424T113454
CREATED:20251014T213721Z
LAST-MODIFIED:20260331T193844Z
UID:10022414-1931196600-1931203800@www.ranchmans.ca
SUMMARY:Thursday - LOCAL VOCALS
DESCRIPTION:If you’ve never experienced hearing talented musicians perform in an intimate environment\, you are in for a treat. You’ll see anyone from artists hoping to break into the music scene\, to established stars showing up unannounced\, and everyone in between. \n\nDoors open 5pm.\nLocal Vocals from 7:30pm-9:30pm.\n\n\nSponsored by Plato’s Closet!\n\nApril 2nd\n– Mya Kate\n– Turner Bates\n\nApril 9th\n– Everlae\n– Jamie Playford\n\nApril 16th\n\n– Erika Mae\n– Kelsey Rust\n\n\nApril 23\n– Martin Desjarlais\n– Melissa Matheson\n\nApril 30\n– Claude Holtz\n– Riley Baldwin
URL:https://www.ranchmans.ca/events/event/thursday-local-vocals/2031-03-13/
CATEGORIES:Show All Events,Weekly Live Music
ATTACH;FMTTYPE=image/jpeg:https://www.ranchmans.ca/events/wp-content/uploads/2025/10/LocalVocals2025square.jpg
END:VEVENT
BEGIN:VEVENT
DTSTART;TZID=America/Edmonton:20310314T233000
DTEND;TZID=America/Edmonton:20310315T020000
DTSTAMP:20260424T113454
CREATED:20240228T154857Z
LAST-MODIFIED:20260326T160703Z
UID:10022362-1931297400-1931306400@www.ranchmans.ca
SUMMARY:DJ Every Friday Night
DESCRIPTION:Unbeatable energy continues with DJ DAVE every weekend after the Band\, always playing the greatest country and line dancing hits.
URL:https://www.ranchmans.ca/events/event/dj-every-friday-night/2031-03-14/
CATEGORIES:Show All Events,Weekly Live Music
ATTACH;FMTTYPE=image/jpeg:https://www.ranchmans.ca/events/wp-content/uploads/2023/02/DJDAVE.jpg
END:VEVENT
BEGIN:VEVENT
DTSTART;TZID=America/Edmonton:20310315T233000
DTEND;TZID=America/Edmonton:20310316T020000
DTSTAMP:20260424T113454
CREATED:20230222T193820Z
LAST-MODIFIED:20260326T160731Z
UID:10022405-1931383800-1931392800@www.ranchmans.ca
SUMMARY:DJ Every Saturday Night
DESCRIPTION:Unbeatable energy continues with DJ DAVE every weekend after the Band\, always playing the greatest country and line dancing hits.
URL:https://www.ranchmans.ca/events/event/dj-every-saturday-night/2031-03-15/
LOCATION:Ranchmans\, 9615 Macleod Trail S\, Calgary\, Alberta\, T2J 0P6\, Canada
CATEGORIES:Ranchmans,Show All Events,Weekly Live Music
ATTACH;FMTTYPE=image/jpeg:https://www.ranchmans.ca/events/wp-content/uploads/2023/02/DJDAVE.jpg
END:VEVENT
BEGIN:VEVENT
DTSTART;TZID=UTC:20310320T193000
DTEND;TZID=UTC:20310320T213000
DTSTAMP:20260424T113454
CREATED:20251014T213721Z
LAST-MODIFIED:20260331T193844Z
UID:10022415-1931801400-1931808600@www.ranchmans.ca
SUMMARY:Thursday - LOCAL VOCALS
DESCRIPTION:If you’ve never experienced hearing talented musicians perform in an intimate environment\, you are in for a treat. You’ll see anyone from artists hoping to break into the music scene\, to established stars showing up unannounced\, and everyone in between. \n\nDoors open 5pm.\nLocal Vocals from 7:30pm-9:30pm.\n\n\nSponsored by Plato’s Closet!\n\nApril 2nd\n– Mya Kate\n– Turner Bates\n\nApril 9th\n– Everlae\n– Jamie Playford\n\nApril 16th\n\n– Erika Mae\n– Kelsey Rust\n\n\nApril 23\n– Martin Desjarlais\n– Melissa Matheson\n\nApril 30\n– Claude Holtz\n– Riley Baldwin
URL:https://www.ranchmans.ca/events/event/thursday-local-vocals/2031-03-20/
CATEGORIES:Show All Events,Weekly Live Music
ATTACH;FMTTYPE=image/jpeg:https://www.ranchmans.ca/events/wp-content/uploads/2025/10/LocalVocals2025square.jpg
END:VEVENT
BEGIN:VEVENT
DTSTART;TZID=America/Edmonton:20310321T233000
DTEND;TZID=America/Edmonton:20310322T020000
DTSTAMP:20260424T113454
CREATED:20240228T154857Z
LAST-MODIFIED:20260326T160703Z
UID:10022363-1931902200-1931911200@www.ranchmans.ca
SUMMARY:DJ Every Friday Night
DESCRIPTION:Unbeatable energy continues with DJ DAVE every weekend after the Band\, always playing the greatest country and line dancing hits.
URL:https://www.ranchmans.ca/events/event/dj-every-friday-night/2031-03-21/
CATEGORIES:Show All Events,Weekly Live Music
ATTACH;FMTTYPE=image/jpeg:https://www.ranchmans.ca/events/wp-content/uploads/2023/02/DJDAVE.jpg
END:VEVENT
END:VCALENDAR