BEGIN:VCALENDAR
VERSION:2.0
PRODID:-//Ranchmans - ECPv6.8.3//NONSGML v1.0//EN
CALSCALE:GREGORIAN
METHOD:PUBLISH
X-ORIGINAL-URL:https://www.ranchmans.ca/events
X-WR-CALDESC:Events for Ranchmans
REFRESH-INTERVAL;VALUE=DURATION:PT1H
X-Robots-Tag:noindex
X-PUBLISHED-TTL:PT1H
BEGIN:VTIMEZONE
TZID:America/Edmonton
BEGIN:DAYLIGHT
TZOFFSETFROM:-0700
TZOFFSETTO:-0600
TZNAME:MDT
DTSTART:20300310T090000
END:DAYLIGHT
BEGIN:STANDARD
TZOFFSETFROM:-0600
TZOFFSETTO:-0700
TZNAME:MST
DTSTART:20301103T080000
END:STANDARD
TZID:UTC
BEGIN:STANDARD
TZOFFSETFROM:+0000
TZOFFSETTO:+0000
TZNAME:UTC
DTSTART:20300101T000000
END:STANDARD
END:VTIMEZONE
BEGIN:VEVENT
DTSTART;TZID=America/Edmonton:20300111T233000
DTEND;TZID=America/Edmonton:20300112T020000
DTSTAMP:20260424T064825
CREATED:20240228T154857Z
LAST-MODIFIED:20260326T160703Z
UID:10018686-1894404600-1894413600@www.ranchmans.ca
SUMMARY:DJ Every Friday Night
DESCRIPTION:Unbeatable energy continues with DJ DAVE every weekend after the Band\, always playing the greatest country and line dancing hits.
URL:https://www.ranchmans.ca/events/event/dj-every-friday-night/2030-01-11/
LOCATION:Alberta
CATEGORIES:Show All Events,Weekly Live Music
ATTACH;FMTTYPE=image/jpeg:https://www.ranchmans.ca/events/wp-content/uploads/2023/02/DJDAVE.jpg
END:VEVENT
BEGIN:VEVENT
DTSTART;TZID=America/Edmonton:20300112T233000
DTEND;TZID=America/Edmonton:20300113T020000
DTSTAMP:20260424T064825
CREATED:20230222T193820Z
LAST-MODIFIED:20260326T160731Z
UID:10018749-1894491000-1894500000@www.ranchmans.ca
SUMMARY:DJ Every Saturday Night
DESCRIPTION:Unbeatable energy continues with DJ DAVE every weekend after the Band\, always playing the greatest country and line dancing hits.
URL:https://www.ranchmans.ca/events/event/dj-every-saturday-night/2030-01-12/
LOCATION:Ranchmans\, 9615 Macleod Trail S\, Calgary\, Alberta\, T2J 0P6\, Canada
CATEGORIES:Ranchmans,Show All Events,Weekly Live Music
ATTACH;FMTTYPE=image/jpeg:https://www.ranchmans.ca/events/wp-content/uploads/2023/02/DJDAVE.jpg
END:VEVENT
BEGIN:VEVENT
DTSTART;TZID=UTC:20300117T193000
DTEND;TZID=UTC:20300117T213000
DTSTAMP:20260424T064825
CREATED:20251014T213721Z
LAST-MODIFIED:20260331T193844Z
UID:10020841-1894908600-1894915800@www.ranchmans.ca
SUMMARY:Thursday - LOCAL VOCALS
DESCRIPTION:If you’ve never experienced hearing talented musicians perform in an intimate environment\, you are in for a treat. You’ll see anyone from artists hoping to break into the music scene\, to established stars showing up unannounced\, and everyone in between. \n\nDoors open 5pm.\nLocal Vocals from 7:30pm-9:30pm.\n\n\nSponsored by Plato’s Closet!\n\nApril 2nd\n– Mya Kate\n– Turner Bates\n\nApril 9th\n– Everlae\n– Jamie Playford\n\nApril 16th\n\n– Erika Mae\n– Kelsey Rust\n\n\nApril 23\n– Martin Desjarlais\n– Melissa Matheson\n\nApril 30\n– Claude Holtz\n– Riley Baldwin
URL:https://www.ranchmans.ca/events/event/thursday-local-vocals/2030-01-17/
LOCATION:Alberta
CATEGORIES:Show All Events,Weekly Live Music
ATTACH;FMTTYPE=image/jpeg:https://www.ranchmans.ca/events/wp-content/uploads/2025/10/LocalVocals2025square.jpg
END:VEVENT
BEGIN:VEVENT
DTSTART;TZID=UTC:20300117T223000
DTEND;TZID=UTC:20300117T223000
DTSTAMP:20260424T064825
CREATED:20230706T223038Z
LAST-MODIFIED:20251120T195817Z
UID:10018814-1894919400-1894919400@www.ranchmans.ca
SUMMARY:DJ Every Thursday Night
DESCRIPTION:Dj Start after the Dance Lessons
URL:https://www.ranchmans.ca/events/event/dj-tonight-3-2/2030-01-17/
LOCATION:Ranchmans\, 9615 Macleod Trail S\, Calgary\, Alberta\, T2J 0P6\, Canada
CATEGORIES:Show All Events,Weekly Live Music
ATTACH;FMTTYPE=image/jpeg:https://www.ranchmans.ca/events/wp-content/uploads/2023/01/DJthursday-1.jpg
END:VEVENT
BEGIN:VEVENT
DTSTART;TZID=America/Edmonton:20300118T233000
DTEND;TZID=America/Edmonton:20300119T020000
DTSTAMP:20260424T064825
CREATED:20240228T154857Z
LAST-MODIFIED:20260326T160703Z
UID:10018687-1895009400-1895018400@www.ranchmans.ca
SUMMARY:DJ Every Friday Night
DESCRIPTION:Unbeatable energy continues with DJ DAVE every weekend after the Band\, always playing the greatest country and line dancing hits.
URL:https://www.ranchmans.ca/events/event/dj-every-friday-night/2030-01-18/
LOCATION:Alberta
CATEGORIES:Show All Events,Weekly Live Music
ATTACH;FMTTYPE=image/jpeg:https://www.ranchmans.ca/events/wp-content/uploads/2023/02/DJDAVE.jpg
END:VEVENT
BEGIN:VEVENT
DTSTART;TZID=America/Edmonton:20300119T233000
DTEND;TZID=America/Edmonton:20300120T020000
DTSTAMP:20260424T064825
CREATED:20230222T193820Z
LAST-MODIFIED:20260326T160731Z
UID:10018750-1895095800-1895104800@www.ranchmans.ca
SUMMARY:DJ Every Saturday Night
DESCRIPTION:Unbeatable energy continues with DJ DAVE every weekend after the Band\, always playing the greatest country and line dancing hits.
URL:https://www.ranchmans.ca/events/event/dj-every-saturday-night/2030-01-19/
LOCATION:Ranchmans\, 9615 Macleod Trail S\, Calgary\, Alberta\, T2J 0P6\, Canada
CATEGORIES:Ranchmans,Show All Events,Weekly Live Music
ATTACH;FMTTYPE=image/jpeg:https://www.ranchmans.ca/events/wp-content/uploads/2023/02/DJDAVE.jpg
END:VEVENT
BEGIN:VEVENT
DTSTART;TZID=UTC:20300124T193000
DTEND;TZID=UTC:20300124T213000
DTSTAMP:20260424T064825
CREATED:20251014T213721Z
LAST-MODIFIED:20260331T193844Z
UID:10020842-1895513400-1895520600@www.ranchmans.ca
SUMMARY:Thursday - LOCAL VOCALS
DESCRIPTION:If you’ve never experienced hearing talented musicians perform in an intimate environment\, you are in for a treat. You’ll see anyone from artists hoping to break into the music scene\, to established stars showing up unannounced\, and everyone in between. \n\nDoors open 5pm.\nLocal Vocals from 7:30pm-9:30pm.\n\n\nSponsored by Plato’s Closet!\n\nApril 2nd\n– Mya Kate\n– Turner Bates\n\nApril 9th\n– Everlae\n– Jamie Playford\n\nApril 16th\n\n– Erika Mae\n– Kelsey Rust\n\n\nApril 23\n– Martin Desjarlais\n– Melissa Matheson\n\nApril 30\n– Claude Holtz\n– Riley Baldwin
URL:https://www.ranchmans.ca/events/event/thursday-local-vocals/2030-01-24/
LOCATION:Alberta
CATEGORIES:Show All Events,Weekly Live Music
ATTACH;FMTTYPE=image/jpeg:https://www.ranchmans.ca/events/wp-content/uploads/2025/10/LocalVocals2025square.jpg
END:VEVENT
BEGIN:VEVENT
DTSTART;TZID=UTC:20300124T223000
DTEND;TZID=UTC:20300124T223000
DTSTAMP:20260424T064825
CREATED:20230706T223038Z
LAST-MODIFIED:20251120T195817Z
UID:10018815-1895524200-1895524200@www.ranchmans.ca
SUMMARY:DJ Every Thursday Night
DESCRIPTION:Dj Start after the Dance Lessons
URL:https://www.ranchmans.ca/events/event/dj-tonight-3-2/2030-01-24/
LOCATION:Ranchmans\, 9615 Macleod Trail S\, Calgary\, Alberta\, T2J 0P6\, Canada
CATEGORIES:Show All Events,Weekly Live Music
ATTACH;FMTTYPE=image/jpeg:https://www.ranchmans.ca/events/wp-content/uploads/2023/01/DJthursday-1.jpg
END:VEVENT
BEGIN:VEVENT
DTSTART;TZID=America/Edmonton:20300125T233000
DTEND;TZID=America/Edmonton:20300126T020000
DTSTAMP:20260424T064825
CREATED:20240228T154857Z
LAST-MODIFIED:20260326T160703Z
UID:10018688-1895614200-1895623200@www.ranchmans.ca
SUMMARY:DJ Every Friday Night
DESCRIPTION:Unbeatable energy continues with DJ DAVE every weekend after the Band\, always playing the greatest country and line dancing hits.
URL:https://www.ranchmans.ca/events/event/dj-every-friday-night/2030-01-25/
LOCATION:Alberta
CATEGORIES:Show All Events,Weekly Live Music
ATTACH;FMTTYPE=image/jpeg:https://www.ranchmans.ca/events/wp-content/uploads/2023/02/DJDAVE.jpg
END:VEVENT
BEGIN:VEVENT
DTSTART;TZID=America/Edmonton:20300126T233000
DTEND;TZID=America/Edmonton:20300127T020000
DTSTAMP:20260424T064825
CREATED:20230222T193820Z
LAST-MODIFIED:20260326T160731Z
UID:10018751-1895700600-1895709600@www.ranchmans.ca
SUMMARY:DJ Every Saturday Night
DESCRIPTION:Unbeatable energy continues with DJ DAVE every weekend after the Band\, always playing the greatest country and line dancing hits.
URL:https://www.ranchmans.ca/events/event/dj-every-saturday-night/2030-01-26/
LOCATION:Ranchmans\, 9615 Macleod Trail S\, Calgary\, Alberta\, T2J 0P6\, Canada
CATEGORIES:Ranchmans,Show All Events,Weekly Live Music
ATTACH;FMTTYPE=image/jpeg:https://www.ranchmans.ca/events/wp-content/uploads/2023/02/DJDAVE.jpg
END:VEVENT
BEGIN:VEVENT
DTSTART;TZID=UTC:20300131T193000
DTEND;TZID=UTC:20300131T213000
DTSTAMP:20260424T064825
CREATED:20251014T213721Z
LAST-MODIFIED:20260331T193844Z
UID:10020843-1896118200-1896125400@www.ranchmans.ca
SUMMARY:Thursday - LOCAL VOCALS
DESCRIPTION:If you’ve never experienced hearing talented musicians perform in an intimate environment\, you are in for a treat. You’ll see anyone from artists hoping to break into the music scene\, to established stars showing up unannounced\, and everyone in between. \n\nDoors open 5pm.\nLocal Vocals from 7:30pm-9:30pm.\n\n\nSponsored by Plato’s Closet!\n\nApril 2nd\n– Mya Kate\n– Turner Bates\n\nApril 9th\n– Everlae\n– Jamie Playford\n\nApril 16th\n\n– Erika Mae\n– Kelsey Rust\n\n\nApril 23\n– Martin Desjarlais\n– Melissa Matheson\n\nApril 30\n– Claude Holtz\n– Riley Baldwin
URL:https://www.ranchmans.ca/events/event/thursday-local-vocals/2030-01-31/
LOCATION:Alberta
CATEGORIES:Show All Events,Weekly Live Music
ATTACH;FMTTYPE=image/jpeg:https://www.ranchmans.ca/events/wp-content/uploads/2025/10/LocalVocals2025square.jpg
END:VEVENT
BEGIN:VEVENT
DTSTART;TZID=UTC:20300131T223000
DTEND;TZID=UTC:20300131T223000
DTSTAMP:20260424T064825
CREATED:20230706T223038Z
LAST-MODIFIED:20251120T195817Z
UID:10018816-1896129000-1896129000@www.ranchmans.ca
SUMMARY:DJ Every Thursday Night
DESCRIPTION:Dj Start after the Dance Lessons
URL:https://www.ranchmans.ca/events/event/dj-tonight-3-2/2030-01-31/
LOCATION:Ranchmans\, 9615 Macleod Trail S\, Calgary\, Alberta\, T2J 0P6\, Canada
CATEGORIES:Show All Events,Weekly Live Music
ATTACH;FMTTYPE=image/jpeg:https://www.ranchmans.ca/events/wp-content/uploads/2023/01/DJthursday-1.jpg
END:VEVENT
BEGIN:VEVENT
DTSTART;TZID=America/Edmonton:20300201T233000
DTEND;TZID=America/Edmonton:20300202T020000
DTSTAMP:20260424T064825
CREATED:20240228T154857Z
LAST-MODIFIED:20260326T160703Z
UID:10018689-1896219000-1896228000@www.ranchmans.ca
SUMMARY:DJ Every Friday Night
DESCRIPTION:Unbeatable energy continues with DJ DAVE every weekend after the Band\, always playing the greatest country and line dancing hits.
URL:https://www.ranchmans.ca/events/event/dj-every-friday-night/2030-02-01/
LOCATION:Alberta
CATEGORIES:Show All Events,Weekly Live Music
ATTACH;FMTTYPE=image/jpeg:https://www.ranchmans.ca/events/wp-content/uploads/2023/02/DJDAVE.jpg
END:VEVENT
BEGIN:VEVENT
DTSTART;TZID=America/Edmonton:20300202T233000
DTEND;TZID=America/Edmonton:20300203T020000
DTSTAMP:20260424T064825
CREATED:20230222T193820Z
LAST-MODIFIED:20260326T160731Z
UID:10018752-1896305400-1896314400@www.ranchmans.ca
SUMMARY:DJ Every Saturday Night
DESCRIPTION:Unbeatable energy continues with DJ DAVE every weekend after the Band\, always playing the greatest country and line dancing hits.
URL:https://www.ranchmans.ca/events/event/dj-every-saturday-night/2030-02-02/
LOCATION:Ranchmans\, 9615 Macleod Trail S\, Calgary\, Alberta\, T2J 0P6\, Canada
CATEGORIES:Ranchmans,Show All Events,Weekly Live Music
ATTACH;FMTTYPE=image/jpeg:https://www.ranchmans.ca/events/wp-content/uploads/2023/02/DJDAVE.jpg
END:VEVENT
BEGIN:VEVENT
DTSTART;TZID=UTC:20300207T193000
DTEND;TZID=UTC:20300207T213000
DTSTAMP:20260424T064825
CREATED:20251014T213721Z
LAST-MODIFIED:20260331T193844Z
UID:10020844-1896723000-1896730200@www.ranchmans.ca
SUMMARY:Thursday - LOCAL VOCALS
DESCRIPTION:If you’ve never experienced hearing talented musicians perform in an intimate environment\, you are in for a treat. You’ll see anyone from artists hoping to break into the music scene\, to established stars showing up unannounced\, and everyone in between. \n\nDoors open 5pm.\nLocal Vocals from 7:30pm-9:30pm.\n\n\nSponsored by Plato’s Closet!\n\nApril 2nd\n– Mya Kate\n– Turner Bates\n\nApril 9th\n– Everlae\n– Jamie Playford\n\nApril 16th\n\n– Erika Mae\n– Kelsey Rust\n\n\nApril 23\n– Martin Desjarlais\n– Melissa Matheson\n\nApril 30\n– Claude Holtz\n– Riley Baldwin
URL:https://www.ranchmans.ca/events/event/thursday-local-vocals/2030-02-07/
LOCATION:Alberta
CATEGORIES:Show All Events,Weekly Live Music
ATTACH;FMTTYPE=image/jpeg:https://www.ranchmans.ca/events/wp-content/uploads/2025/10/LocalVocals2025square.jpg
END:VEVENT
BEGIN:VEVENT
DTSTART;TZID=UTC:20300207T223000
DTEND;TZID=UTC:20300207T223000
DTSTAMP:20260424T064825
CREATED:20230706T223038Z
LAST-MODIFIED:20251120T195817Z
UID:10018817-1896733800-1896733800@www.ranchmans.ca
SUMMARY:DJ Every Thursday Night
DESCRIPTION:Dj Start after the Dance Lessons
URL:https://www.ranchmans.ca/events/event/dj-tonight-3-2/2030-02-07/
LOCATION:Ranchmans\, 9615 Macleod Trail S\, Calgary\, Alberta\, T2J 0P6\, Canada
CATEGORIES:Show All Events,Weekly Live Music
ATTACH;FMTTYPE=image/jpeg:https://www.ranchmans.ca/events/wp-content/uploads/2023/01/DJthursday-1.jpg
END:VEVENT
BEGIN:VEVENT
DTSTART;TZID=America/Edmonton:20300208T233000
DTEND;TZID=America/Edmonton:20300209T020000
DTSTAMP:20260424T064825
CREATED:20240228T154857Z
LAST-MODIFIED:20260326T160703Z
UID:10018690-1896823800-1896832800@www.ranchmans.ca
SUMMARY:DJ Every Friday Night
DESCRIPTION:Unbeatable energy continues with DJ DAVE every weekend after the Band\, always playing the greatest country and line dancing hits.
URL:https://www.ranchmans.ca/events/event/dj-every-friday-night/2030-02-08/
LOCATION:Alberta
CATEGORIES:Show All Events,Weekly Live Music
ATTACH;FMTTYPE=image/jpeg:https://www.ranchmans.ca/events/wp-content/uploads/2023/02/DJDAVE.jpg
END:VEVENT
BEGIN:VEVENT
DTSTART;TZID=America/Edmonton:20300209T233000
DTEND;TZID=America/Edmonton:20300210T020000
DTSTAMP:20260424T064825
CREATED:20230222T193820Z
LAST-MODIFIED:20260326T160731Z
UID:10018753-1896910200-1896919200@www.ranchmans.ca
SUMMARY:DJ Every Saturday Night
DESCRIPTION:Unbeatable energy continues with DJ DAVE every weekend after the Band\, always playing the greatest country and line dancing hits.
URL:https://www.ranchmans.ca/events/event/dj-every-saturday-night/2030-02-09/
LOCATION:Ranchmans\, 9615 Macleod Trail S\, Calgary\, Alberta\, T2J 0P6\, Canada
CATEGORIES:Ranchmans,Show All Events,Weekly Live Music
ATTACH;FMTTYPE=image/jpeg:https://www.ranchmans.ca/events/wp-content/uploads/2023/02/DJDAVE.jpg
END:VEVENT
BEGIN:VEVENT
DTSTART;TZID=UTC:20300214T193000
DTEND;TZID=UTC:20300214T213000
DTSTAMP:20260424T064825
CREATED:20251014T213721Z
LAST-MODIFIED:20260331T193844Z
UID:10020845-1897327800-1897335000@www.ranchmans.ca
SUMMARY:Thursday - LOCAL VOCALS
DESCRIPTION:If you’ve never experienced hearing talented musicians perform in an intimate environment\, you are in for a treat. You’ll see anyone from artists hoping to break into the music scene\, to established stars showing up unannounced\, and everyone in between. \n\nDoors open 5pm.\nLocal Vocals from 7:30pm-9:30pm.\n\n\nSponsored by Plato’s Closet!\n\nApril 2nd\n– Mya Kate\n– Turner Bates\n\nApril 9th\n– Everlae\n– Jamie Playford\n\nApril 16th\n\n– Erika Mae\n– Kelsey Rust\n\n\nApril 23\n– Martin Desjarlais\n– Melissa Matheson\n\nApril 30\n– Claude Holtz\n– Riley Baldwin
URL:https://www.ranchmans.ca/events/event/thursday-local-vocals/2030-02-14/
LOCATION:Alberta
CATEGORIES:Show All Events,Weekly Live Music
ATTACH;FMTTYPE=image/jpeg:https://www.ranchmans.ca/events/wp-content/uploads/2025/10/LocalVocals2025square.jpg
END:VEVENT
BEGIN:VEVENT
DTSTART;TZID=UTC:20300214T223000
DTEND;TZID=UTC:20300214T223000
DTSTAMP:20260424T064825
CREATED:20230706T223038Z
LAST-MODIFIED:20251120T195817Z
UID:10018818-1897338600-1897338600@www.ranchmans.ca
SUMMARY:DJ Every Thursday Night
DESCRIPTION:Dj Start after the Dance Lessons
URL:https://www.ranchmans.ca/events/event/dj-tonight-3-2/2030-02-14/
LOCATION:Ranchmans\, 9615 Macleod Trail S\, Calgary\, Alberta\, T2J 0P6\, Canada
CATEGORIES:Show All Events,Weekly Live Music
ATTACH;FMTTYPE=image/jpeg:https://www.ranchmans.ca/events/wp-content/uploads/2023/01/DJthursday-1.jpg
END:VEVENT
BEGIN:VEVENT
DTSTART;TZID=America/Edmonton:20300215T233000
DTEND;TZID=America/Edmonton:20300216T020000
DTSTAMP:20260424T064825
CREATED:20240228T154857Z
LAST-MODIFIED:20260326T160703Z
UID:10018691-1897428600-1897437600@www.ranchmans.ca
SUMMARY:DJ Every Friday Night
DESCRIPTION:Unbeatable energy continues with DJ DAVE every weekend after the Band\, always playing the greatest country and line dancing hits.
URL:https://www.ranchmans.ca/events/event/dj-every-friday-night/2030-02-15/
LOCATION:Alberta
CATEGORIES:Show All Events,Weekly Live Music
ATTACH;FMTTYPE=image/jpeg:https://www.ranchmans.ca/events/wp-content/uploads/2023/02/DJDAVE.jpg
END:VEVENT
BEGIN:VEVENT
DTSTART;TZID=America/Edmonton:20300216T233000
DTEND;TZID=America/Edmonton:20300217T020000
DTSTAMP:20260424T064825
CREATED:20230222T193820Z
LAST-MODIFIED:20260326T160731Z
UID:10018754-1897515000-1897524000@www.ranchmans.ca
SUMMARY:DJ Every Saturday Night
DESCRIPTION:Unbeatable energy continues with DJ DAVE every weekend after the Band\, always playing the greatest country and line dancing hits.
URL:https://www.ranchmans.ca/events/event/dj-every-saturday-night/2030-02-16/
LOCATION:Ranchmans\, 9615 Macleod Trail S\, Calgary\, Alberta\, T2J 0P6\, Canada
CATEGORIES:Ranchmans,Show All Events,Weekly Live Music
ATTACH;FMTTYPE=image/jpeg:https://www.ranchmans.ca/events/wp-content/uploads/2023/02/DJDAVE.jpg
END:VEVENT
BEGIN:VEVENT
DTSTART;TZID=UTC:20300221T193000
DTEND;TZID=UTC:20300221T213000
DTSTAMP:20260424T064825
CREATED:20251014T213721Z
LAST-MODIFIED:20260331T193844Z
UID:10020846-1897932600-1897939800@www.ranchmans.ca
SUMMARY:Thursday - LOCAL VOCALS
DESCRIPTION:If you’ve never experienced hearing talented musicians perform in an intimate environment\, you are in for a treat. You’ll see anyone from artists hoping to break into the music scene\, to established stars showing up unannounced\, and everyone in between. \n\nDoors open 5pm.\nLocal Vocals from 7:30pm-9:30pm.\n\n\nSponsored by Plato’s Closet!\n\nApril 2nd\n– Mya Kate\n– Turner Bates\n\nApril 9th\n– Everlae\n– Jamie Playford\n\nApril 16th\n\n– Erika Mae\n– Kelsey Rust\n\n\nApril 23\n– Martin Desjarlais\n– Melissa Matheson\n\nApril 30\n– Claude Holtz\n– Riley Baldwin
URL:https://www.ranchmans.ca/events/event/thursday-local-vocals/2030-02-21/
LOCATION:Alberta
CATEGORIES:Show All Events,Weekly Live Music
ATTACH;FMTTYPE=image/jpeg:https://www.ranchmans.ca/events/wp-content/uploads/2025/10/LocalVocals2025square.jpg
END:VEVENT
BEGIN:VEVENT
DTSTART;TZID=UTC:20300221T223000
DTEND;TZID=UTC:20300221T223000
DTSTAMP:20260424T064825
CREATED:20230706T223038Z
LAST-MODIFIED:20251120T195817Z
UID:10018819-1897943400-1897943400@www.ranchmans.ca
SUMMARY:DJ Every Thursday Night
DESCRIPTION:Dj Start after the Dance Lessons
URL:https://www.ranchmans.ca/events/event/dj-tonight-3-2/2030-02-21/
LOCATION:Ranchmans\, 9615 Macleod Trail S\, Calgary\, Alberta\, T2J 0P6\, Canada
CATEGORIES:Show All Events,Weekly Live Music
ATTACH;FMTTYPE=image/jpeg:https://www.ranchmans.ca/events/wp-content/uploads/2023/01/DJthursday-1.jpg
END:VEVENT
BEGIN:VEVENT
DTSTART;TZID=America/Edmonton:20300222T233000
DTEND;TZID=America/Edmonton:20300223T020000
DTSTAMP:20260424T064825
CREATED:20240228T154857Z
LAST-MODIFIED:20260326T160703Z
UID:10018692-1898033400-1898042400@www.ranchmans.ca
SUMMARY:DJ Every Friday Night
DESCRIPTION:Unbeatable energy continues with DJ DAVE every weekend after the Band\, always playing the greatest country and line dancing hits.
URL:https://www.ranchmans.ca/events/event/dj-every-friday-night/2030-02-22/
LOCATION:Alberta
CATEGORIES:Show All Events,Weekly Live Music
ATTACH;FMTTYPE=image/jpeg:https://www.ranchmans.ca/events/wp-content/uploads/2023/02/DJDAVE.jpg
END:VEVENT
BEGIN:VEVENT
DTSTART;TZID=America/Edmonton:20300223T233000
DTEND;TZID=America/Edmonton:20300224T020000
DTSTAMP:20260424T064825
CREATED:20230222T193820Z
LAST-MODIFIED:20260326T160731Z
UID:10018755-1898119800-1898128800@www.ranchmans.ca
SUMMARY:DJ Every Saturday Night
DESCRIPTION:Unbeatable energy continues with DJ DAVE every weekend after the Band\, always playing the greatest country and line dancing hits.
URL:https://www.ranchmans.ca/events/event/dj-every-saturday-night/2030-02-23/
LOCATION:Ranchmans\, 9615 Macleod Trail S\, Calgary\, Alberta\, T2J 0P6\, Canada
CATEGORIES:Ranchmans,Show All Events,Weekly Live Music
ATTACH;FMTTYPE=image/jpeg:https://www.ranchmans.ca/events/wp-content/uploads/2023/02/DJDAVE.jpg
END:VEVENT
BEGIN:VEVENT
DTSTART;TZID=UTC:20300228T193000
DTEND;TZID=UTC:20300228T213000
DTSTAMP:20260424T064825
CREATED:20251014T213721Z
LAST-MODIFIED:20260331T193844Z
UID:10020847-1898537400-1898544600@www.ranchmans.ca
SUMMARY:Thursday - LOCAL VOCALS
DESCRIPTION:If you’ve never experienced hearing talented musicians perform in an intimate environment\, you are in for a treat. You’ll see anyone from artists hoping to break into the music scene\, to established stars showing up unannounced\, and everyone in between. \n\nDoors open 5pm.\nLocal Vocals from 7:30pm-9:30pm.\n\n\nSponsored by Plato’s Closet!\n\nApril 2nd\n– Mya Kate\n– Turner Bates\n\nApril 9th\n– Everlae\n– Jamie Playford\n\nApril 16th\n\n– Erika Mae\n– Kelsey Rust\n\n\nApril 23\n– Martin Desjarlais\n– Melissa Matheson\n\nApril 30\n– Claude Holtz\n– Riley Baldwin
URL:https://www.ranchmans.ca/events/event/thursday-local-vocals/2030-02-28/
LOCATION:Alberta
CATEGORIES:Show All Events,Weekly Live Music
ATTACH;FMTTYPE=image/jpeg:https://www.ranchmans.ca/events/wp-content/uploads/2025/10/LocalVocals2025square.jpg
END:VEVENT
BEGIN:VEVENT
DTSTART;TZID=UTC:20300228T223000
DTEND;TZID=UTC:20300228T223000
DTSTAMP:20260424T064825
CREATED:20230706T223038Z
LAST-MODIFIED:20251120T195817Z
UID:10018820-1898548200-1898548200@www.ranchmans.ca
SUMMARY:DJ Every Thursday Night
DESCRIPTION:Dj Start after the Dance Lessons
URL:https://www.ranchmans.ca/events/event/dj-tonight-3-2/2030-02-28/
LOCATION:Ranchmans\, 9615 Macleod Trail S\, Calgary\, Alberta\, T2J 0P6\, Canada
CATEGORIES:Show All Events,Weekly Live Music
ATTACH;FMTTYPE=image/jpeg:https://www.ranchmans.ca/events/wp-content/uploads/2023/01/DJthursday-1.jpg
END:VEVENT
BEGIN:VEVENT
DTSTART;TZID=America/Edmonton:20300301T233000
DTEND;TZID=America/Edmonton:20300302T020000
DTSTAMP:20260424T064825
CREATED:20240228T154857Z
LAST-MODIFIED:20260326T160703Z
UID:10018693-1898638200-1898647200@www.ranchmans.ca
SUMMARY:DJ Every Friday Night
DESCRIPTION:Unbeatable energy continues with DJ DAVE every weekend after the Band\, always playing the greatest country and line dancing hits.
URL:https://www.ranchmans.ca/events/event/dj-every-friday-night/2030-03-01/
LOCATION:Alberta
CATEGORIES:Show All Events,Weekly Live Music
ATTACH;FMTTYPE=image/jpeg:https://www.ranchmans.ca/events/wp-content/uploads/2023/02/DJDAVE.jpg
END:VEVENT
BEGIN:VEVENT
DTSTART;TZID=America/Edmonton:20300302T233000
DTEND;TZID=America/Edmonton:20300303T020000
DTSTAMP:20260424T064825
CREATED:20230222T193820Z
LAST-MODIFIED:20260326T160731Z
UID:10018756-1898724600-1898733600@www.ranchmans.ca
SUMMARY:DJ Every Saturday Night
DESCRIPTION:Unbeatable energy continues with DJ DAVE every weekend after the Band\, always playing the greatest country and line dancing hits.
URL:https://www.ranchmans.ca/events/event/dj-every-saturday-night/2030-03-02/
LOCATION:Ranchmans\, 9615 Macleod Trail S\, Calgary\, Alberta\, T2J 0P6\, Canada
CATEGORIES:Ranchmans,Show All Events,Weekly Live Music
ATTACH;FMTTYPE=image/jpeg:https://www.ranchmans.ca/events/wp-content/uploads/2023/02/DJDAVE.jpg
END:VEVENT
END:VCALENDAR