BEGIN:VCALENDAR
VERSION:2.0
PRODID:-//Ranchmans - ECPv6.8.3//NONSGML v1.0//EN
CALSCALE:GREGORIAN
METHOD:PUBLISH
X-ORIGINAL-URL:https://www.ranchmans.ca/events
X-WR-CALDESC:Events for Ranchmans
REFRESH-INTERVAL;VALUE=DURATION:PT1H
X-Robots-Tag:noindex
X-PUBLISHED-TTL:PT1H
BEGIN:VTIMEZONE
TZID:America/Edmonton
BEGIN:DAYLIGHT
TZOFFSETFROM:-0700
TZOFFSETTO:-0600
TZNAME:MDT
DTSTART:20260308T090000
END:DAYLIGHT
BEGIN:STANDARD
TZOFFSETFROM:-0600
TZOFFSETTO:-0700
TZNAME:MST
DTSTART:20261101T080000
END:STANDARD
END:VTIMEZONE
BEGIN:VEVENT
DTSTART;TZID=America/Edmonton:20260218T173000
DTEND;TZID=America/Edmonton:20260218T183000
DTSTAMP:20260424T023624
CREATED:20251208T192428Z
LAST-MODIFIED:20251208T192428Z
UID:10021539-1771435800-1771439400@www.ranchmans.ca
SUMMARY:West Coast Swing Lesson - Level 1 3/4
DESCRIPTION:WEST COAST SWING with Steve and Laurie  \nWeekly progressive lessons starting the first Wednesday of each month. FREE! \nWe offer FREE Country Dance Lessons on the largest dance floor in Calgary. No reservations are needed\, just join us on the dance floor! With decades of experience\, our instructors can tailor dances to any age (18+) and ability. \n• Doors at 5pm\n• Dance Lessons starting at 5:30 pm\n \nWest Coast Swing Level 1 \nFeb 4th: Lesson 1/4 \nFeb 11th: Lesson 2/4 \nFeb 18th: Lesson 3/4 \nFeb 25th: Lesson 4/4
URL:https://www.ranchmans.ca/events/event/west-coast-swing-lesson-level-1-3-4/
LOCATION:Ranchmans\, 9615 Macleod Trail S\, Calgary\, Alberta\, T2J 0P6\, Canada
CATEGORIES:Dance Lessons,West Coast Swing Lessons - Free
END:VEVENT
BEGIN:VEVENT
DTSTART;TZID=America/Edmonton:20260218T190000
DTEND;TZID=America/Edmonton:20260218T203000
DTSTAMP:20260424T023624
CREATED:20251208T192004Z
LAST-MODIFIED:20260302T233715Z
UID:10021283-1771441200-1771446600@www.ranchmans.ca
SUMMARY:Two-Step - Beginner
DESCRIPTION:Beginner Two-Step with Steve and Laurie   \nWeekly progressive lessons starting the first Wednesday of each month. FREE! \nWe offer FREE Country Dance Lessons on the largest dance floor in Calgary. No reservations are needed\, just join us on the dance floor! With decades of experience\, our instructors can tailor dances to any age (18+) and ability. \n\nDoors at 5pm\nBeginner Two-Step starting at 7 pm\nWING NIGHT: .1/2 Price Wings *with purchase of a beverage
URL:https://www.ranchmans.ca/events/event/two-step-beginner-3/2026-02-18/
LOCATION:Ranchmans\, 9615 Macleod Trail S\, Calgary\, Alberta\, T2J 0P6\, Canada
CATEGORIES:Two Step Lessons - Free
END:VEVENT
BEGIN:VEVENT
DTSTART;TZID=America/Edmonton:20260218T203000
DTEND;TZID=America/Edmonton:20260218T213000
DTSTAMP:20260424T023624
CREATED:20241007T204528Z
LAST-MODIFIED:20260302T233740Z
UID:10015915-1771446600-1771450200@www.ranchmans.ca
SUMMARY:Country Swing - Wednesday Beginner Lessons
DESCRIPTION:Beginner Country Swing Lessons with Kyler & Alyssa \nIntroduction to our Country Swing Dance Lessons or 4-Count Swing is a simple style of swing consisting of rocking forward and back \nJoin us EVERY Wednesday Night from 8:30pm-9:30pm \nWe offer FREE Country Dance Lessons on the largest dance floor in Calgary. No reservations are needed\, just join us on the dance floor! With decades of experience\, our instructors can tailor dances to any age (18+) and ability. \n\nDoors at 5pm\nCountry Swing Lessons starting at 8:30pm\nWING NIGHT: .1/2 Price Wings *with purchase of a beverage
URL:https://www.ranchmans.ca/events/event/country-swing-wednesday-beginner-lessons/2026-02-18/
LOCATION:Ranchmans\, 9615 Macleod Trail S\, Calgary\, Alberta\, T2J 0P6\, Canada
CATEGORIES:Country Swing Lessons - Free,Dance Lessons
END:VEVENT
END:VCALENDAR