BEGIN:VCALENDAR
VERSION:2.0
PRODID:-//Ranchmans - ECPv6.8.3//NONSGML v1.0//EN
CALSCALE:GREGORIAN
METHOD:PUBLISH
X-ORIGINAL-URL:https://www.ranchmans.ca/events
X-WR-CALDESC:Events for Ranchmans
REFRESH-INTERVAL;VALUE=DURATION:PT1H
X-Robots-Tag:noindex
X-PUBLISHED-TTL:PT1H
BEGIN:VTIMEZONE
TZID:America/Edmonton
BEGIN:DAYLIGHT
TZOFFSETFROM:-0700
TZOFFSETTO:-0600
TZNAME:MDT
DTSTART:20250309T090000
END:DAYLIGHT
BEGIN:STANDARD
TZOFFSETFROM:-0600
TZOFFSETTO:-0700
TZNAME:MST
DTSTART:20251102T080000
END:STANDARD
END:VTIMEZONE
BEGIN:VEVENT
DTSTART;TZID=America/Edmonton:20250627T183000
DTEND;TZID=America/Edmonton:20250627T193000
DTSTAMP:20260421T053044
CREATED:20231005T203641Z
LAST-MODIFIED:20260302T234018Z
UID:10009858-1751049000-1751052600@www.ranchmans.ca
SUMMARY:Line Dance - FRIDAY Lessons Beginner / Improver
DESCRIPTION:Beginner / Improver – Line Dance Lessons with Sean Buckley \nLine Dance is a form of dance done by a group of people all facing the same direction doing a sequence of steps at the same time \nWe offer FREE Country Dance Lessons on the largest dance floor in Calgary. No reservations are needed\, just join us on the dance floor! With decades of experience\, our instructors can tailor dances to any age (18+) and ability. \n\nDoors at 5pm\nLine Dance – Beginner Improver starts 6:30pm\nCountry Swing – Beginner Lessons starts 8pm\nHappy Hour ’til 8pm
URL:https://www.ranchmans.ca/events/event/free-beginner-improver-line-dance-fridays/2025-06-27/
LOCATION:Ranchmans\, 9615 Macleod Trail S\, Calgary\, Alberta\, T2J 0P6\, Canada
CATEGORIES:Dance Lessons,Line Dance Lessons - Free
END:VEVENT
BEGIN:VEVENT
DTSTART;TZID=America/Edmonton:20250627T200000
DTEND;TZID=America/Edmonton:20250627T210000
DTSTAMP:20260421T053044
CREATED:20230307T232734Z
LAST-MODIFIED:20260302T234057Z
UID:10007223-1751054400-1751058000@www.ranchmans.ca
SUMMARY:Country Swing - FRIDAY Beginner Lessons
DESCRIPTION:Beginner Country Swing Lessons with Kyler & Alyssa \nIntroduction to our Country Swing Dance Lessons or 4-Count Swing is a simple style of swing consisting of rocking forward and back \nJoin us EVERY FRIDAY NIGHT from 8pm-9pm as we start of with our Singles Night Event with Country Swing Lessons. (Couples Can Join!) Make some new friends. \nWe offer FREE Country Dance Lessons on the largest dance floor in Calgary. No reservations are needed\, just join us on the dance floor! With decades of experience\, our instructors can tailor dances to any age (18+) and ability. \n\nDoors at 5pm\nLine Dance – Beginner Improver starts 6:30pm\nCountry Swing – Beginner Lessons starts 8pm
URL:https://www.ranchmans.ca/events/event/singles-night-event-2-2-2/2025-06-27/
LOCATION:Ranchmans\, 9615 Macleod Trail S\, Calgary\, Alberta\, T2J 0P6\, Canada
CATEGORIES:Country Swing Lessons - Free,Dance Lessons
END:VEVENT
BEGIN:VEVENT
DTSTART;TZID=America/Edmonton:20250627T210000
DTEND;TZID=America/Edmonton:20250628T010000
DTSTAMP:20260421T053044
CREATED:20250408T222341Z
LAST-MODIFIED:20250422T165511Z
UID:10018008-1751058000-1751072400@www.ranchmans.ca
SUMMARY:Jake Worthington with Opening support Quinton Blaire
DESCRIPTION:RANCHMANS & COUNTRY 105 PRESENT\nJAKE WORTHINGTON with Opening support Quinton Blaire\nFRIDAY\, JUNE 27TH\nFor Big Loud Texas traditionalist Jake Worthington\, country music runs deep in his veins. Raised in La Porte\, Texas\, on the sounds of Ray Price\, Merle Haggard\, and George Jones\, Worthington carries on the honky-tonk tradition with his signature two-steppin’ anthems and powerhouse vocals. \nWith his self-penned debut album\, Jake Worthington\, and collaborations like “Hello Shitty Day” (feat. Miranda Lambert) and “I’m The One” (feat. Marty Stuart)\, Worthington is breathing new life into dance halls\, beer joints\, and ballrooms across the country. Having shared the stage with Cody Johnson\, Lainey Wilson\, Hank Williams Jr.\, ERNEST\, and more\, he’s solidified himself as one of today’s most authentic voices in country music.
URL:https://www.ranchmans.ca/events/event/jake-worthinton/
LOCATION:Ranchmans\, 9615 Macleod Trail S\, Calgary\, Alberta\, T2J 0P6\, Canada
CATEGORIES:Ticketed Events,Weekly Live Music
ATTACH;FMTTYPE=image/jpeg:https://www.ranchmans.ca/events/wp-content/uploads/2025/04/JakeWorthingtonSQUARE.jpg
END:VEVENT
BEGIN:VEVENT
DTSTART;TZID=America/Edmonton:20250627T233000
DTEND;TZID=America/Edmonton:20250628T020000
DTSTAMP:20260421T053044
CREATED:20240228T154857Z
LAST-MODIFIED:20260326T160703Z
UID:10012964-1751067000-1751076000@www.ranchmans.ca
SUMMARY:DJ Every Friday Night
DESCRIPTION:Unbeatable energy continues with DJ DAVE every weekend after the Band\, always playing the greatest country and line dancing hits.
URL:https://www.ranchmans.ca/events/event/dj-every-friday-night/2025-06-27/
LOCATION:Alberta
CATEGORIES:Show All Events,Weekly Live Music
ATTACH;FMTTYPE=image/jpeg:https://www.ranchmans.ca/events/wp-content/uploads/2023/02/DJDAVE.jpg
END:VEVENT
END:VCALENDAR